BEGIN:VCALENDAR
VERSION:2.0
PRODID:-//Evergreen Covenant Church - ECPv6.15.20//NONSGML v1.0//EN
CALSCALE:GREGORIAN
METHOD:PUBLISH
X-ORIGINAL-URL:https://evergreencovenant.org
X-WR-CALDESC:Events for Evergreen Covenant Church
REFRESH-INTERVAL;VALUE=DURATION:PT1H
X-Robots-Tag:noindex
X-PUBLISHED-TTL:PT1H
BEGIN:VTIMEZONE
TZID:UTC
BEGIN:STANDARD
TZOFFSETFROM:+0000
TZOFFSETTO:+0000
TZNAME:UTC
DTSTART:20240101T000000
END:STANDARD
END:VTIMEZONE
BEGIN:VEVENT
DTSTART;TZID=UTC:20250804T103000
DTEND;TZID=UTC:20250804T120000
DTSTAMP:20260425T013937
CREATED:20250624T172552Z
LAST-MODIFIED:20250624T172552Z
UID:2693-1754303400-1754308800@evergreencovenant.org
SUMMARY:Women's Group/Bible Study
DESCRIPTION:
URL:https://evergreencovenant.org/event/womens-group-bible-study-5/
LOCATION:Evergreen Covenant Church\, 7967 South Evergreen Road\, Branch\, MI\, 49402\, United States
CATEGORIES:Women's Ministry
END:VEVENT
END:VCALENDAR