BEGIN:VCALENDAR
VERSION:2.0
PRODID:-//Evergreen Covenant Church - ECPv6.15.20//NONSGML v1.0//EN
CALSCALE:GREGORIAN
METHOD:PUBLISH
X-WR-CALNAME:Evergreen Covenant Church
X-ORIGINAL-URL:https://evergreencovenant.org
X-WR-CALDESC:Events for Evergreen Covenant Church
REFRESH-INTERVAL;VALUE=DURATION:PT1H
X-Robots-Tag:noindex
X-PUBLISHED-TTL:PT1H
BEGIN:VTIMEZONE
TZID:UTC
BEGIN:STANDARD
TZOFFSETFROM:+0000
TZOFFSETTO:+0000
TZNAME:UTC
DTSTART:20250101T000000
END:STANDARD
END:VTIMEZONE
BEGIN:VEVENT
DTSTART;TZID=UTC:20260412T150000
DTEND;TZID=UTC:20260614T160000
DTSTAMP:20260424T160619
CREATED:20260312T182233Z
LAST-MODIFIED:20260312T182234Z
UID:3235-1776006000-1781452800@evergreencovenant.org
SUMMARY:"You Are A Soul" Bible Discussion Group
DESCRIPTION:We will not be meeting for our study on Mother’s Day or Memorial Day weekend. \nOtherwise\, plan to meet Sunday afternoons from 3:00 to 4:00 pm!
URL:https://evergreencovenant.org/event/you-are-a-soul-bible-discussion-group/
LOCATION:Evergreen Covenant Church\, 7967 South Evergreen Road\, Branch\, MI\, 49402\, United States
CATEGORIES:Church Events,Classes
END:VEVENT
BEGIN:VEVENT
DTSTART;TZID=UTC:20260419T093000
DTEND;TZID=UTC:20260419T110000
DTSTAMP:20260424T160619
CREATED:20240520T145052Z
LAST-MODIFIED:20260403T025524Z
UID:2066-1776591000-1776596400@evergreencovenant.org
SUMMARY:Worship Service & Mission Moment
DESCRIPTION:
URL:https://evergreencovenant.org/event/worship-service-4/
LOCATION:Evergreen Covenant Church\, 7967 South Evergreen Road\, Branch\, MI\, 49402\, United States
CATEGORIES:Mission Moment,Worship Service
END:VEVENT
BEGIN:VEVENT
DTSTART;TZID=UTC:20260419T093000
DTEND;TZID=UTC:20260419T110000
DTSTAMP:20260424T160619
CREATED:20250216T203303Z
LAST-MODIFIED:20260204T042420Z
UID:2524-1776591000-1776596400@evergreencovenant.org
SUMMARY:Servant Leader Sunday Service
DESCRIPTION:
URL:https://evergreencovenant.org/event/servant-sunday/
LOCATION:Evergreen Covenant Church\, 7967 South Evergreen Road\, Branch\, MI\, 49402\, United States
CATEGORIES:Church Events
END:VEVENT
BEGIN:VEVENT
DTSTART;TZID=UTC:20260419T110000
DTEND;TZID=UTC:20260419T120000
DTSTAMP:20260424T160619
CREATED:20240128T210421Z
LAST-MODIFIED:20260329T173815Z
UID:1824-1776596400-1776600000@evergreencovenant.org
SUMMARY:Mission Committee Meeting
DESCRIPTION:
URL:https://evergreencovenant.org/event/mission-committee-meeting-19/
LOCATION:Evergreen Covenant Church\, 7967 South Evergreen Road\, Branch\, MI\, 49402\, United States
CATEGORIES:Mission Committee
END:VEVENT
BEGIN:VEVENT
DTSTART;TZID=UTC:20260419T110000
DTEND;TZID=UTC:20260419T120000
DTSTAMP:20260424T160619
CREATED:20250902T142840Z
LAST-MODIFIED:20260329T173924Z
UID:2852-1776596400-1776600000@evergreencovenant.org
SUMMARY:Trustee Meeting
DESCRIPTION:Following Service
URL:https://evergreencovenant.org/event/trustee-meeting-9/
LOCATION:Evergreen Covenant Church\, 7967 South Evergreen Road\, Branch\, MI\, 49402\, United States
CATEGORIES:Trustees
END:VEVENT
END:VCALENDAR