BEGIN:VCALENDAR
VERSION:2.0
PRODID:-//Evergreen Covenant Church - ECPv6.15.20//NONSGML v1.0//EN
CALSCALE:GREGORIAN
METHOD:PUBLISH
X-WR-CALNAME:Evergreen Covenant Church
X-ORIGINAL-URL:https://evergreencovenant.org
X-WR-CALDESC:Events for Evergreen Covenant Church
REFRESH-INTERVAL;VALUE=DURATION:PT1H
X-Robots-Tag:noindex
X-PUBLISHED-TTL:PT1H
BEGIN:VTIMEZONE
TZID:UTC
BEGIN:STANDARD
TZOFFSETFROM:+0000
TZOFFSETTO:+0000
TZNAME:UTC
DTSTART:20250101T000000
END:STANDARD
END:VTIMEZONE
BEGIN:VEVENT
DTSTART;TZID=UTC:20260412T150000
DTEND;TZID=UTC:20260614T160000
DTSTAMP:20260424T115904
CREATED:20260312T182233Z
LAST-MODIFIED:20260312T182234Z
UID:3235-1776006000-1781452800@evergreencovenant.org
SUMMARY:"You Are A Soul" Bible Discussion Group
DESCRIPTION:We will not be meeting for our study on Mother’s Day or Memorial Day weekend. \nOtherwise\, plan to meet Sunday afternoons from 3:00 to 4:00 pm!
URL:https://evergreencovenant.org/event/you-are-a-soul-bible-discussion-group/
LOCATION:Evergreen Covenant Church\, 7967 South Evergreen Road\, Branch\, MI\, 49402\, United States
CATEGORIES:Church Events,Classes
END:VEVENT
BEGIN:VEVENT
DTSTART;TZID=UTC:20260606T090000
DTEND;TZID=UTC:20260606T130000
DTSTAMP:20260424T115904
CREATED:20260216T035643Z
LAST-MODIFIED:20260216T035643Z
UID:3186-1780736400-1780750800@evergreencovenant.org
SUMMARY:Membership Inquirers Class
DESCRIPTION:
URL:https://evergreencovenant.org/event/membership-inquirers-class/
LOCATION:Evergreen Covenant Church\, 7967 South Evergreen Road\, Branch\, MI\, 49402\, United States
CATEGORIES:Classes
END:VEVENT
BEGIN:VEVENT
DTSTART;TZID=UTC:20260802T093000
DTEND;TZID=UTC:20260802T110000
DTSTAMP:20260424T115904
CREATED:20260204T042533Z
LAST-MODIFIED:20260204T042533Z
UID:3173-1785663000-1785668400@evergreencovenant.org
SUMMARY:Communion & Worship Gathering
DESCRIPTION:
URL:https://evergreencovenant.org/event/communion-worship-gathering-9/
LOCATION:Evergreen Covenant Church\, 7967 South Evergreen Road\, Branch\, MI\, 49402\, United States
CATEGORIES:Communion,Worship Service
END:VEVENT
END:VCALENDAR