BEGIN:VCALENDAR
VERSION:2.0
PRODID:-//Evergreen Covenant Church - ECPv6.15.20//NONSGML v1.0//EN
CALSCALE:GREGORIAN
METHOD:PUBLISH
X-ORIGINAL-URL:https://evergreencovenant.org
X-WR-CALDESC:Events for Evergreen Covenant Church
REFRESH-INTERVAL;VALUE=DURATION:PT1H
X-Robots-Tag:noindex
X-PUBLISHED-TTL:PT1H
BEGIN:VTIMEZONE
TZID:UTC
BEGIN:STANDARD
TZOFFSETFROM:+0000
TZOFFSETTO:+0000
TZNAME:UTC
DTSTART:20210101T000000
END:STANDARD
END:VTIMEZONE
BEGIN:VEVENT
DTSTART;TZID=UTC:20260315T110000
DTEND;TZID=UTC:20260315T120000
DTSTAMP:20260424T201325
CREATED:20231221T201533Z
LAST-MODIFIED:20260125T031336Z
UID:1730-1773572400-1773576000@evergreencovenant.org
SUMMARY:Executive Board Meeting
DESCRIPTION:
URL:https://evergreencovenant.org/event/executive-board-meeting-11/
LOCATION:Evergreen Covenant Church\, 7967 South Evergreen Road\, Branch\, MI\, 49402\, United States
CATEGORIES:Board
END:VEVENT
BEGIN:VEVENT
DTSTART;TZID=UTC:20250907T110000
DTEND;TZID=UTC:20250907T120000
DTSTAMP:20260424T201325
CREATED:20231221T201432Z
LAST-MODIFIED:20250825T125952Z
UID:1728-1757242800-1757246400@evergreencovenant.org
SUMMARY:Executive Board Meeting
DESCRIPTION:
URL:https://evergreencovenant.org/event/executive-board-meeting-10/
LOCATION:Evergreen Covenant Church\, 7967 South Evergreen Road\, Branch\, MI\, 49402\, United States
CATEGORIES:Board
END:VEVENT
BEGIN:VEVENT
DTSTART;TZID=UTC:20240804T110000
DTEND;TZID=UTC:20240804T120000
DTSTAMP:20260424T201325
CREATED:20231221T201308Z
LAST-MODIFIED:20240708T220625Z
UID:1726-1722769200-1722772800@evergreencovenant.org
SUMMARY:Executive Board Meeting
DESCRIPTION:
URL:https://evergreencovenant.org/event/executive-board-meeting-9/
LOCATION:Evergreen Covenant Church\, 7967 South Evergreen Road\, Branch\, MI\, 49402\, United States
CATEGORIES:Board
END:VEVENT
BEGIN:VEVENT
DTSTART;TZID=UTC:20240609T110000
DTEND;TZID=UTC:20240609T120000
DTSTAMP:20260424T201325
CREATED:20231221T201234Z
LAST-MODIFIED:20240520T144507Z
UID:1724-1717930800-1717934400@evergreencovenant.org
SUMMARY:Executive Board Meeting
DESCRIPTION:Immediately following Worship Service
URL:https://evergreencovenant.org/event/executive-board-meeting-8/
LOCATION:Evergreen Covenant Church\, 7967 South Evergreen Road\, Branch\, MI\, 49402\, United States
CATEGORIES:Board
END:VEVENT
BEGIN:VEVENT
DTSTART;TZID=UTC:20240407T110000
DTEND;TZID=UTC:20240407T120000
DTSTAMP:20260424T201325
CREATED:20231221T201133Z
LAST-MODIFIED:20231221T201133Z
UID:1722-1712487600-1712491200@evergreencovenant.org
SUMMARY:Executive Board Meeting
DESCRIPTION:
URL:https://evergreencovenant.org/event/executive-board-meeting-7/
LOCATION:Evergreen Covenant Church\, 7967 South Evergreen Road\, Branch\, MI\, 49402\, United States
CATEGORIES:Board
END:VEVENT
BEGIN:VEVENT
DTSTART;TZID=UTC:20231001T110000
DTEND;TZID=UTC:20231001T120000
DTSTAMP:20260424T201325
CREATED:20230220T221308Z
LAST-MODIFIED:20230220T221308Z
UID:1047-1696158000-1696161600@evergreencovenant.org
SUMMARY:Executive Board Meeting
DESCRIPTION:
URL:https://evergreencovenant.org/event/executive-board-meeting-5/
LOCATION:Evergreen Covenant Church\, 7967 South Evergreen Road\, Branch\, MI\, 49402\, United States
CATEGORIES:Board
END:VEVENT
BEGIN:VEVENT
DTSTART;TZID=UTC:20230806T110000
DTEND;TZID=UTC:20230806T120000
DTSTAMP:20260424T201325
CREATED:20230220T221234Z
LAST-MODIFIED:20230220T221234Z
UID:1045-1691319600-1691323200@evergreencovenant.org
SUMMARY:Executive Board Meeting
DESCRIPTION:
URL:https://evergreencovenant.org/event/executive-board-meeting-4/
LOCATION:Evergreen Covenant Church\, 7967 South Evergreen Road\, Branch\, MI\, 49402\, United States
CATEGORIES:Board
END:VEVENT
BEGIN:VEVENT
DTSTART;TZID=UTC:20230604T110000
DTEND;TZID=UTC:20230604T120000
DTSTAMP:20260424T201325
CREATED:20230220T221120Z
LAST-MODIFIED:20230220T221154Z
UID:1043-1685876400-1685880000@evergreencovenant.org
SUMMARY:Executive Board Meeting
DESCRIPTION:
URL:https://evergreencovenant.org/event/executive-board-meeting-3/
LOCATION:Evergreen Covenant Church\, 7967 South Evergreen Road\, Branch\, MI\, 49402\, United States
CATEGORIES:Board
END:VEVENT
BEGIN:VEVENT
DTSTART;TZID=UTC:20230402T110000
DTEND;TZID=UTC:20230402T120000
DTSTAMP:20260424T201325
CREATED:20230220T221045Z
LAST-MODIFIED:20230220T221045Z
UID:1041-1680433200-1680436800@evergreencovenant.org
SUMMARY:Executive Board Meeting
DESCRIPTION:
URL:https://evergreencovenant.org/event/executive-board-meeting-2/
LOCATION:Evergreen Covenant Church\, 7967 South Evergreen Road\, Branch\, MI\, 49402\, United States
CATEGORIES:Board
END:VEVENT
BEGIN:VEVENT
DTSTART;TZID=UTC:20220918T110000
DTEND;TZID=UTC:20220918T120000
DTSTAMP:20260424T201325
CREATED:20220913T020709Z
LAST-MODIFIED:20220913T020709Z
UID:561-1663498800-1663502400@evergreencovenant.org
SUMMARY:Executive Board Meeting
DESCRIPTION:
URL:https://evergreencovenant.org/event/executive-board-meeting/
LOCATION:Evergreen Covenant Church\, 7967 South Evergreen Road\, Branch\, MI\, 49402\, United States
CATEGORIES:Board
END:VEVENT
END:VCALENDAR