BEGIN:VCALENDAR
VERSION:2.0
PRODID:-//Evergreen Covenant Church - ECPv6.15.20//NONSGML v1.0//EN
CALSCALE:GREGORIAN
METHOD:PUBLISH
X-WR-CALNAME:Evergreen Covenant Church
X-ORIGINAL-URL:https://evergreencovenant.org
X-WR-CALDESC:Events for Evergreen Covenant Church
REFRESH-INTERVAL;VALUE=DURATION:PT1H
X-Robots-Tag:noindex
X-PUBLISHED-TTL:PT1H
BEGIN:VTIMEZONE
TZID:UTC
BEGIN:STANDARD
TZOFFSETFROM:+0000
TZOFFSETTO:+0000
TZNAME:UTC
DTSTART:20210101T000000
END:STANDARD
END:VTIMEZONE
BEGIN:VEVENT
DTSTART;TZID=UTC:20230329T173000
DTEND;TZID=UTC:20230329T190000
DTSTAMP:20260425T015221
CREATED:20230210T010732Z
LAST-MODIFIED:20230210T010732Z
UID:1014-1680111000-1680116400@evergreencovenant.org
SUMMARY:Pasta Dinner and Movie
DESCRIPTION:Suggested donation: adults $2\, children: free.
URL:https://evergreencovenant.org/event/pasta-dinner-and-movie-2/
LOCATION:Evergreen Covenant Church\, 7967 South Evergreen Road\, Branch\, MI\, 49402\, United States
CATEGORIES:Church Events
END:VEVENT
BEGIN:VEVENT
DTSTART;TZID=UTC:20230301T173000
DTEND;TZID=UTC:20230301T190000
DTSTAMP:20260425T015221
CREATED:20230210T010612Z
LAST-MODIFIED:20230210T010612Z
UID:1012-1677691800-1677697200@evergreencovenant.org
SUMMARY:Pasta Dinner and Movie
DESCRIPTION:Suggested donation: adults $2\, children: free.
URL:https://evergreencovenant.org/event/pasta-dinner-and-movie/
LOCATION:Evergreen Covenant Church\, 7967 South Evergreen Road\, Branch\, MI\, 49402\, United States
CATEGORIES:Church Events
END:VEVENT
BEGIN:VEVENT
DTSTART;TZID=UTC:20220928T173000
DTEND;TZID=UTC:20220928T193000
DTSTAMP:20260425T015221
CREATED:20220913T021115Z
LAST-MODIFIED:20220913T021115Z
UID:565-1664386200-1664393400@evergreencovenant.org
SUMMARY:Pasta Dinner
DESCRIPTION:
URL:https://evergreencovenant.org/event/pasta-dinner/
LOCATION:Evergreen Covenant Church\, 7967 South Evergreen Road\, Branch\, MI\, 49402\, United States
CATEGORIES:Church Events
END:VEVENT
END:VCALENDAR