BEGIN:VCALENDAR
VERSION:2.0
PRODID:-//Evergreen Covenant Church - ECPv6.15.20//NONSGML v1.0//EN
CALSCALE:GREGORIAN
METHOD:PUBLISH
X-ORIGINAL-URL:https://evergreencovenant.org
X-WR-CALDESC:Events for Evergreen Covenant Church
REFRESH-INTERVAL;VALUE=DURATION:PT1H
X-Robots-Tag:noindex
X-PUBLISHED-TTL:PT1H
BEGIN:VTIMEZONE
TZID:UTC
BEGIN:STANDARD
TZOFFSETFROM:+0000
TZOFFSETTO:+0000
TZNAME:UTC
DTSTART:20220101T000000
END:STANDARD
END:VTIMEZONE
BEGIN:VEVENT
DTSTART;TZID=UTC:20230514T093000
DTEND;TZID=UTC:20230514T110000
DTSTAMP:20260424T213842
CREATED:20230220T221905Z
LAST-MODIFIED:20230420T164912Z
UID:1053-1684056600-1684062000@evergreencovenant.org
SUMMARY:Communion & Worship Gathering
DESCRIPTION:Pastor Keith’s Final Sermon
URL:https://evergreencovenant.org/event/worship-gathering-30/
LOCATION:Evergreen Covenant Church\, 7967 South Evergreen Road\, Branch\, MI\, 49402\, United States
CATEGORIES:Communion,Worship Service
END:VEVENT
END:VCALENDAR