BEGIN:VCALENDAR
VERSION:2.0
PRODID:-//Evergreen Covenant Church - ECPv6.15.20//NONSGML v1.0//EN
CALSCALE:GREGORIAN
METHOD:PUBLISH
X-WR-CALNAME:Evergreen Covenant Church
X-ORIGINAL-URL:https://evergreencovenant.org
X-WR-CALDESC:Events for Evergreen Covenant Church
REFRESH-INTERVAL;VALUE=DURATION:PT1H
X-Robots-Tag:noindex
X-PUBLISHED-TTL:PT1H
BEGIN:VTIMEZONE
TZID:UTC
BEGIN:STANDARD
TZOFFSETFROM:+0000
TZOFFSETTO:+0000
TZNAME:UTC
DTSTART:20220101T000000
END:STANDARD
END:VTIMEZONE
BEGIN:VEVENT
DTSTART;TZID=UTC:20260419T110000
DTEND;TZID=UTC:20260419T120000
DTSTAMP:20260424T164352
CREATED:20240128T210421Z
LAST-MODIFIED:20260329T173815Z
UID:1824-1776596400-1776600000@evergreencovenant.org
SUMMARY:Mission Committee Meeting
DESCRIPTION:
URL:https://evergreencovenant.org/event/mission-committee-meeting-19/
LOCATION:Evergreen Covenant Church\, 7967 South Evergreen Road\, Branch\, MI\, 49402\, United States
CATEGORIES:Mission Committee
END:VEVENT
BEGIN:VEVENT
DTSTART;TZID=UTC:20260308T110000
DTEND;TZID=UTC:20260308T120000
DTSTAMP:20260424T164352
CREATED:20240128T210457Z
LAST-MODIFIED:20251111T171242Z
UID:1826-1772967600-1772971200@evergreencovenant.org
SUMMARY:Mission Committee Meeting
DESCRIPTION:
URL:https://evergreencovenant.org/event/mission-committee-meeting-20/
LOCATION:Evergreen Covenant Church\, 7967 South Evergreen Road\, Branch\, MI\, 49402\, United States
CATEGORIES:Mission Committee
END:VEVENT
BEGIN:VEVENT
DTSTART;TZID=UTC:20260111T110000
DTEND;TZID=UTC:20260111T120000
DTSTAMP:20260424T164352
CREATED:20240128T210528Z
LAST-MODIFIED:20251111T171307Z
UID:1828-1768129200-1768132800@evergreencovenant.org
SUMMARY:Mission Committee Meeting
DESCRIPTION:
URL:https://evergreencovenant.org/event/mission-committee-meeting-21/
LOCATION:Evergreen Covenant Church\, 7967 South Evergreen Road\, Branch\, MI\, 49402\, United States
CATEGORIES:Mission Committee
END:VEVENT
BEGIN:VEVENT
DTSTART;TZID=UTC:20251109T110000
DTEND;TZID=UTC:20251109T120000
DTSTAMP:20260424T164352
CREATED:20250902T142731Z
LAST-MODIFIED:20251102T182804Z
UID:2850-1762686000-1762689600@evergreencovenant.org
SUMMARY:Mission Board Meeting
DESCRIPTION:Following service
URL:https://evergreencovenant.org/event/mission-board-meeting/
LOCATION:Evergreen Covenant Church\, 7967 South Evergreen Road\, Branch\, MI\, 49402\, United States
CATEGORIES:Mission Committee
END:VEVENT
BEGIN:VEVENT
DTSTART;TZID=UTC:20240908T110000
DTEND;TZID=UTC:20240908T120000
DTSTAMP:20260424T164352
CREATED:20240128T210349Z
LAST-MODIFIED:20240128T210349Z
UID:1822-1725793200-1725796800@evergreencovenant.org
SUMMARY:Mission Committee Meeting
DESCRIPTION:
URL:https://evergreencovenant.org/event/mission-committee-meeting-18/
LOCATION:Evergreen Covenant Church\, 7967 South Evergreen Road\, Branch\, MI\, 49402\, United States
CATEGORIES:Mission Committee
END:VEVENT
BEGIN:VEVENT
DTSTART;TZID=UTC:20240811T110000
DTEND;TZID=UTC:20240811T120000
DTSTAMP:20260424T164352
CREATED:20240128T210316Z
LAST-MODIFIED:20240128T210316Z
UID:1820-1723374000-1723377600@evergreencovenant.org
SUMMARY:Mission Committee Meeting
DESCRIPTION:
URL:https://evergreencovenant.org/event/mission-committee-meeting-17/
LOCATION:Evergreen Covenant Church\, 7967 South Evergreen Road\, Branch\, MI\, 49402\, United States
CATEGORIES:Mission Committee
END:VEVENT
BEGIN:VEVENT
DTSTART;TZID=UTC:20240714T110000
DTEND;TZID=UTC:20240714T120000
DTSTAMP:20260424T164352
CREATED:20240128T210233Z
LAST-MODIFIED:20240128T210233Z
UID:1818-1720954800-1720958400@evergreencovenant.org
SUMMARY:Mission Committee Meeting
DESCRIPTION:
URL:https://evergreencovenant.org/event/mission-committee-meeting-16/
LOCATION:Evergreen Covenant Church\, 7967 South Evergreen Road\, Branch\, MI\, 49402\, United States
CATEGORIES:Mission Committee
END:VEVENT
BEGIN:VEVENT
DTSTART;TZID=UTC:20240623T110000
DTEND;TZID=UTC:20240623T120000
DTSTAMP:20260424T164352
CREATED:20240128T210113Z
LAST-MODIFIED:20240520T145506Z
UID:1816-1719140400-1719144000@evergreencovenant.org
SUMMARY:Mission Committee Meeting
DESCRIPTION:Immediately following Worship Service
URL:https://evergreencovenant.org/event/mission-committee-meeting-15/
LOCATION:Evergreen Covenant Church\, 7967 South Evergreen Road\, Branch\, MI\, 49402\, United States
CATEGORIES:Mission Committee
END:VEVENT
BEGIN:VEVENT
DTSTART;TZID=UTC:20240519T110000
DTEND;TZID=UTC:20240519T120000
DTSTAMP:20260424T164352
CREATED:20240128T210045Z
LAST-MODIFIED:20240415T190753Z
UID:1814-1716116400-1716120000@evergreencovenant.org
SUMMARY:Mission Committee Meeting
DESCRIPTION:
URL:https://evergreencovenant.org/event/mission-committee-meeting-14/
LOCATION:Evergreen Covenant Church\, 7967 South Evergreen Road\, Branch\, MI\, 49402\, United States
CATEGORIES:Mission Committee
END:VEVENT
BEGIN:VEVENT
DTSTART;TZID=UTC:20240414T110000
DTEND;TZID=UTC:20240414T120000
DTSTAMP:20260424T164352
CREATED:20240128T210008Z
LAST-MODIFIED:20240128T210008Z
UID:1812-1713092400-1713096000@evergreencovenant.org
SUMMARY:Mission Committee Meeting
DESCRIPTION:
URL:https://evergreencovenant.org/event/mission-committee-meeting-13/
LOCATION:Evergreen Covenant Church\, 7967 South Evergreen Road\, Branch\, MI\, 49402\, United States
CATEGORIES:Mission Committee
END:VEVENT
BEGIN:VEVENT
DTSTART;TZID=UTC:20240310T110000
DTEND;TZID=UTC:20240310T120000
DTSTAMP:20260424T164352
CREATED:20240128T205910Z
LAST-MODIFIED:20240128T205910Z
UID:1810-1710068400-1710072000@evergreencovenant.org
SUMMARY:Mission Committee Meeting
DESCRIPTION:
URL:https://evergreencovenant.org/event/mission-committee-meeting-12/
LOCATION:Evergreen Covenant Church\, 7967 South Evergreen Road\, Branch\, MI\, 49402\, United States
CATEGORIES:Mission Committee
END:VEVENT
BEGIN:VEVENT
DTSTART;TZID=UTC:20240211T110000
DTEND;TZID=UTC:20240211T120000
DTSTAMP:20260424T164352
CREATED:20240128T205821Z
LAST-MODIFIED:20240128T205821Z
UID:1808-1707649200-1707652800@evergreencovenant.org
SUMMARY:Mission Committee Meeting
DESCRIPTION:
URL:https://evergreencovenant.org/event/mission-committee-meeting-11/
LOCATION:Evergreen Covenant Church\, 7967 South Evergreen Road\, Branch\, MI\, 49402\, United States
CATEGORIES:Mission Committee
END:VEVENT
BEGIN:VEVENT
DTSTART;TZID=UTC:20240121T110000
DTEND;TZID=UTC:20240121T120000
DTSTAMP:20260424T164352
CREATED:20240112T174408Z
LAST-MODIFIED:20240112T174408Z
UID:1759-1705834800-1705838400@evergreencovenant.org
SUMMARY:Mission Committee Meeting
DESCRIPTION:
URL:https://evergreencovenant.org/event/mission-committee-meeting-10/
LOCATION:Evergreen Covenant Church\, 7967 South Evergreen Road\, Branch\, MI\, 49402\, United States
CATEGORIES:Mission Committee
END:VEVENT
BEGIN:VEVENT
DTSTART;TZID=UTC:20231210T110000
DTEND;TZID=UTC:20231210T120000
DTSTAMP:20260424T164352
CREATED:20230329T194204Z
LAST-MODIFIED:20230329T194204Z
UID:1183-1702206000-1702209600@evergreencovenant.org
SUMMARY:Mission Committee Meeting
DESCRIPTION:
URL:https://evergreencovenant.org/event/mission-committee-meeting-9/
LOCATION:Evergreen Covenant Church\, 7967 South Evergreen Road\, Branch\, MI\, 49402\, United States
CATEGORIES:Mission Committee
END:VEVENT
BEGIN:VEVENT
DTSTART;TZID=UTC:20231112T110000
DTEND;TZID=UTC:20231112T120000
DTSTAMP:20260424T164352
CREATED:20230329T194142Z
LAST-MODIFIED:20230329T194142Z
UID:1181-1699786800-1699790400@evergreencovenant.org
SUMMARY:Mission Committee Meeting
DESCRIPTION:
URL:https://evergreencovenant.org/event/mission-committee-meeting-8/
LOCATION:Evergreen Covenant Church\, 7967 South Evergreen Road\, Branch\, MI\, 49402\, United States
CATEGORIES:Mission Committee
END:VEVENT
BEGIN:VEVENT
DTSTART;TZID=UTC:20231008T110000
DTEND;TZID=UTC:20231008T120000
DTSTAMP:20260424T164352
CREATED:20230329T194115Z
LAST-MODIFIED:20230329T194115Z
UID:1179-1696762800-1696766400@evergreencovenant.org
SUMMARY:Mission Committee Meeting
DESCRIPTION:
URL:https://evergreencovenant.org/event/mission-committee-meeting-7/
LOCATION:Evergreen Covenant Church\, 7967 South Evergreen Road\, Branch\, MI\, 49402\, United States
CATEGORIES:Mission Committee
END:VEVENT
BEGIN:VEVENT
DTSTART;TZID=UTC:20230910T110000
DTEND;TZID=UTC:20230910T120000
DTSTAMP:20260424T164352
CREATED:20230329T194016Z
LAST-MODIFIED:20230329T194016Z
UID:1177-1694343600-1694347200@evergreencovenant.org
SUMMARY:Mission Committee Meeting
DESCRIPTION:
URL:https://evergreencovenant.org/event/mission-committee-meeting-6/
LOCATION:Evergreen Covenant Church\, 7967 South Evergreen Road\, Branch\, MI\, 49402\, United States
CATEGORIES:Mission Committee
END:VEVENT
BEGIN:VEVENT
DTSTART;TZID=UTC:20230813T110000
DTEND;TZID=UTC:20230813T120000
DTSTAMP:20260424T164352
CREATED:20230329T193928Z
LAST-MODIFIED:20230329T193928Z
UID:1175-1691924400-1691928000@evergreencovenant.org
SUMMARY:Mission Committee Meeting
DESCRIPTION:
URL:https://evergreencovenant.org/event/mission-committee-meeting-5/
LOCATION:Evergreen Covenant Church\, 7967 South Evergreen Road\, Branch\, MI\, 49402\, United States
CATEGORIES:Mission Committee
END:VEVENT
BEGIN:VEVENT
DTSTART;TZID=UTC:20230709T110000
DTEND;TZID=UTC:20230709T120000
DTSTAMP:20260424T164352
CREATED:20230329T193837Z
LAST-MODIFIED:20230329T193837Z
UID:1173-1688900400-1688904000@evergreencovenant.org
SUMMARY:Mission Committee Meeting
DESCRIPTION:
URL:https://evergreencovenant.org/event/mission-committee-meeting-4/
LOCATION:Evergreen Covenant Church\, 7967 South Evergreen Road\, Branch\, MI\, 49402\, United States
CATEGORIES:Mission Committee
END:VEVENT
BEGIN:VEVENT
DTSTART;TZID=UTC:20230611T110000
DTEND;TZID=UTC:20230611T120000
DTSTAMP:20260424T164352
CREATED:20230329T193805Z
LAST-MODIFIED:20230329T193805Z
UID:1171-1686481200-1686484800@evergreencovenant.org
SUMMARY:Mission Committee Meeting
DESCRIPTION:
URL:https://evergreencovenant.org/event/mission-committee-meeting-3/
LOCATION:Evergreen Covenant Church\, 7967 South Evergreen Road\, Branch\, MI\, 49402\, United States
CATEGORIES:Mission Committee
END:VEVENT
BEGIN:VEVENT
DTSTART;TZID=UTC:20230514T110000
DTEND;TZID=UTC:20230514T120000
DTSTAMP:20260424T164352
CREATED:20230329T193714Z
LAST-MODIFIED:20230329T193714Z
UID:1169-1684062000-1684065600@evergreencovenant.org
SUMMARY:Mission Committee Meeting
DESCRIPTION:
URL:https://evergreencovenant.org/event/mission-committee-meeting-2/
LOCATION:Evergreen Covenant Church\, 7967 South Evergreen Road\, Branch\, MI\, 49402\, United States
CATEGORIES:Mission Committee
END:VEVENT
BEGIN:VEVENT
DTSTART;TZID=UTC:20230402T103000
DTEND;TZID=UTC:20230402T110000
DTSTAMP:20260424T164352
CREATED:20230329T193613Z
LAST-MODIFIED:20230329T193613Z
UID:1167-1680431400-1680433200@evergreencovenant.org
SUMMARY:Mission Committee Meeting
DESCRIPTION:
URL:https://evergreencovenant.org/event/mission-committee-meeting/
LOCATION:Evergreen Covenant Church\, 7967 South Evergreen Road\, Branch\, MI\, 49402\, United States
CATEGORIES:Mission Committee
END:VEVENT
END:VCALENDAR