BEGIN:VCALENDAR
VERSION:2.0
PRODID:-//Evergreen Covenant Church - ECPv6.15.20//NONSGML v1.0//EN
CALSCALE:GREGORIAN
METHOD:PUBLISH
X-WR-CALNAME:Evergreen Covenant Church
X-ORIGINAL-URL:https://evergreencovenant.org
X-WR-CALDESC:Events for Evergreen Covenant Church
REFRESH-INTERVAL;VALUE=DURATION:PT1H
X-Robots-Tag:noindex
X-PUBLISHED-TTL:PT1H
BEGIN:VTIMEZONE
TZID:UTC
BEGIN:STANDARD
TZOFFSETFROM:+0000
TZOFFSETTO:+0000
TZNAME:UTC
DTSTART:20250101T000000
END:STANDARD
END:VTIMEZONE
BEGIN:VEVENT
DTSTART;TZID=UTC:20260420T100000
DTEND;TZID=UTC:20260420T113000
DTSTAMP:20260424T174940
CREATED:20241111T224348Z
LAST-MODIFIED:20260403T025815Z
UID:2376-1776679200-1776684600@evergreencovenant.org
SUMMARY:GriefShare Group
DESCRIPTION:
URL:https://evergreencovenant.org/event/griefshare-group/
LOCATION:River Community Center\, 9731 M-37\, Baldwin\, 49304\, United States
CATEGORIES:Outreach
END:VEVENT
END:VCALENDAR