BEGIN:VCALENDAR
VERSION:2.0
PRODID:-//Evergreen Covenant Church - ECPv6.15.20//NONSGML v1.0//EN
CALSCALE:GREGORIAN
METHOD:PUBLISH
X-ORIGINAL-URL:https://evergreencovenant.org
X-WR-CALDESC:Events for Evergreen Covenant Church
REFRESH-INTERVAL;VALUE=DURATION:PT1H
X-Robots-Tag:noindex
X-PUBLISHED-TTL:PT1H
BEGIN:VTIMEZONE
TZID:UTC
BEGIN:STANDARD
TZOFFSETFROM:+0000
TZOFFSETTO:+0000
TZNAME:UTC
DTSTART:20210101T000000
END:STANDARD
END:VTIMEZONE
BEGIN:VEVENT
DTSTART;TZID=UTC:20260419T110000
DTEND;TZID=UTC:20260419T120000
DTSTAMP:20260424T164100
CREATED:20250902T142840Z
LAST-MODIFIED:20260329T173924Z
UID:2852-1776596400-1776600000@evergreencovenant.org
SUMMARY:Trustee Meeting
DESCRIPTION:Following Service
URL:https://evergreencovenant.org/event/trustee-meeting-9/
LOCATION:Evergreen Covenant Church\, 7967 South Evergreen Road\, Branch\, MI\, 49402\, United States
CATEGORIES:Trustees
END:VEVENT
BEGIN:VEVENT
DTSTART;TZID=UTC:20250817T110000
DTEND;TZID=UTC:20250817T120000
DTSTAMP:20260424T164100
CREATED:20250806T045214Z
LAST-MODIFIED:20250806T045214Z
UID:2770-1755428400-1755432000@evergreencovenant.org
SUMMARY:Trustee Meeting
DESCRIPTION:
URL:https://evergreencovenant.org/event/trustee-meeting-8/
LOCATION:Evergreen Covenant Church\, 7967 South Evergreen Road\, Branch\, MI\, 49402\, United States
CATEGORIES:Trustees
END:VEVENT
BEGIN:VEVENT
DTSTART;TZID=UTC:20250720T104500
DTEND;TZID=UTC:20250720T120000
DTSTAMP:20260424T164100
CREATED:20240708T220751Z
LAST-MODIFIED:20250623T174939Z
UID:2180-1753008300-1753012800@evergreencovenant.org
SUMMARY:Trustee Meeting
DESCRIPTION:
URL:https://evergreencovenant.org/event/trustee-meeting-7/
LOCATION:Evergreen Covenant Church\, 7967 South Evergreen Road\, Branch\, MI\, 49402\, United States
CATEGORIES:Trustees
END:VEVENT
BEGIN:VEVENT
DTSTART;TZID=UTC:20250316T110000
DTEND;TZID=UTC:20250316T120000
DTSTAMP:20260424T164100
CREATED:20220211T135933Z
LAST-MODIFIED:20250216T203008Z
UID:834-1742122800-1742126400@evergreencovenant.org
SUMMARY:Trustee Meeting
DESCRIPTION:
URL:https://evergreencovenant.org/event/trustee-meeting-2-23/
LOCATION:Evergreen Covenant Church\, 7967 South Evergreen Road\, Branch\, MI\, 49402\, United States
CATEGORIES:Trustees
END:VEVENT
BEGIN:VEVENT
DTSTART;TZID=UTC:20240721T104500
DTEND;TZID=UTC:20240721T120000
DTSTAMP:20260424T164100
CREATED:20240708T220359Z
LAST-MODIFIED:20240708T220359Z
UID:2173-1721558700-1721563200@evergreencovenant.org
SUMMARY:Trustee Meeting
DESCRIPTION:
URL:https://evergreencovenant.org/event/trustee-meeting-6/
LOCATION:Evergreen Covenant Church\, 7967 South Evergreen Road\, Branch\, MI\, 49402\, United States
CATEGORIES:Trustees
END:VEVENT
BEGIN:VEVENT
DTSTART;TZID=UTC:20240317T110000
DTEND;TZID=UTC:20240317T120000
DTSTAMP:20260424T164100
CREATED:20240103T210319Z
LAST-MODIFIED:20240103T210319Z
UID:1745-1710673200-1710676800@evergreencovenant.org
SUMMARY:Trustee Meeting
DESCRIPTION:
URL:https://evergreencovenant.org/event/trustee-meeting-5/
LOCATION:Evergreen Covenant Church\, 7967 South Evergreen Road\, Branch\, MI\, 49402\, United States
CATEGORIES:Trustees
END:VEVENT
BEGIN:VEVENT
DTSTART;TZID=UTC:20230716T110000
DTEND;TZID=UTC:20230716T120000
DTSTAMP:20260424T164100
CREATED:20230414T054927Z
LAST-MODIFIED:20230414T054927Z
UID:1255-1689505200-1689508800@evergreencovenant.org
SUMMARY:Trustee Meeting
DESCRIPTION:
URL:https://evergreencovenant.org/event/trustee-meeting-4/
LOCATION:Evergreen Covenant Church\, 7967 South Evergreen Road\, Branch\, MI\, 49402\, United States
CATEGORIES:Trustees
END:VEVENT
BEGIN:VEVENT
DTSTART;TZID=UTC:20230618T110000
DTEND;TZID=UTC:20230618T120000
DTSTAMP:20260424T164100
CREATED:20230414T054833Z
LAST-MODIFIED:20230414T054833Z
UID:1253-1687086000-1687089600@evergreencovenant.org
SUMMARY:Trustee Meeting
DESCRIPTION:
URL:https://evergreencovenant.org/event/trustee-meeting-3/
LOCATION:Evergreen Covenant Church\, 7967 South Evergreen Road\, Branch\, MI\, 49402\, United States
CATEGORIES:Trustees
END:VEVENT
BEGIN:VEVENT
DTSTART;TZID=UTC:20230521T110000
DTEND;TZID=UTC:20230521T120000
DTSTAMP:20260424T164100
CREATED:20230414T054726Z
LAST-MODIFIED:20230414T054726Z
UID:1251-1684666800-1684670400@evergreencovenant.org
SUMMARY:Trustee Meeting
DESCRIPTION:
URL:https://evergreencovenant.org/event/trustee-meeting-2/
LOCATION:Evergreen Covenant Church\, 7967 South Evergreen Road\, Branch\, MI\, 49402\, United States
CATEGORIES:Trustees
END:VEVENT
BEGIN:VEVENT
DTSTART;TZID=UTC:20221112T090000
DTEND;TZID=UTC:20221112T100000
DTSTAMP:20260424T164100
CREATED:20221023T050315Z
LAST-MODIFIED:20221023T050316Z
UID:707-1668243600-1668247200@evergreencovenant.org
SUMMARY:Trustee Meeting
DESCRIPTION:
URL:https://evergreencovenant.org/event/trustee-meeting/
LOCATION:Evergreen Covenant Church\, 7967 South Evergreen Road\, Branch\, MI\, 49402\, United States
CATEGORIES:Trustees
END:VEVENT
BEGIN:VEVENT
DTSTART;TZID=UTC:20221015T090000
DTEND;TZID=UTC:20221015T100000
DTSTAMP:20260424T164100
CREATED:20220927T001530Z
LAST-MODIFIED:20220927T001531Z
UID:660-1665824400-1665828000@evergreencovenant.org
SUMMARY:Trustees Meeting
DESCRIPTION:
URL:https://evergreencovenant.org/event/trustees-meeting/
LOCATION:Evergreen Covenant Church\, 7967 South Evergreen Road\, Branch\, MI\, 49402\, United States
CATEGORIES:Trustees
END:VEVENT
END:VCALENDAR