BEGIN:VCALENDAR
VERSION:2.0
PRODID:-//Evergreen Covenant Church - ECPv6.15.20//NONSGML v1.0//EN
CALSCALE:GREGORIAN
METHOD:PUBLISH
X-WR-CALNAME:Evergreen Covenant Church
X-ORIGINAL-URL:https://evergreencovenant.org
X-WR-CALDESC:Events for Evergreen Covenant Church
REFRESH-INTERVAL;VALUE=DURATION:PT1H
X-Robots-Tag:noindex
X-PUBLISHED-TTL:PT1H
BEGIN:VTIMEZONE
TZID:UTC
BEGIN:STANDARD
TZOFFSETFROM:+0000
TZOFFSETTO:+0000
TZNAME:UTC
DTSTART:20230101T000000
END:STANDARD
END:VTIMEZONE
BEGIN:VEVENT
DTSTART;TZID=UTC:20251103T103000
DTEND;TZID=UTC:20251103T120000
DTSTAMP:20260424T214421
CREATED:20250902T142518Z
LAST-MODIFIED:20251102T182700Z
UID:2848-1762165800-1762171200@evergreencovenant.org
SUMMARY:Women's Group/Bible Study
DESCRIPTION:
URL:https://evergreencovenant.org/event/womens-group-bible-study-6/
LOCATION:Evergreen Covenant Church\, 7967 South Evergreen Road\, Branch\, MI\, 49402\, United States
CATEGORIES:Women's Ministry
END:VEVENT
BEGIN:VEVENT
DTSTART;TZID=UTC:20250804T103000
DTEND;TZID=UTC:20250804T120000
DTSTAMP:20260424T214421
CREATED:20250624T172552Z
LAST-MODIFIED:20250624T172552Z
UID:2693-1754303400-1754308800@evergreencovenant.org
SUMMARY:Women's Group/Bible Study
DESCRIPTION:
URL:https://evergreencovenant.org/event/womens-group-bible-study-5/
LOCATION:Evergreen Covenant Church\, 7967 South Evergreen Road\, Branch\, MI\, 49402\, United States
CATEGORIES:Women's Ministry
END:VEVENT
BEGIN:VEVENT
DTSTART;TZID=UTC:20250728T103000
DTEND;TZID=UTC:20250728T120000
DTSTAMP:20260424T214421
CREATED:20250624T172530Z
LAST-MODIFIED:20250624T172530Z
UID:2691-1753698600-1753704000@evergreencovenant.org
SUMMARY:Women's Group/Bible Study
DESCRIPTION:
URL:https://evergreencovenant.org/event/womens-group-bible-study-4/
LOCATION:Evergreen Covenant Church\, 7967 South Evergreen Road\, Branch\, MI\, 49402\, United States
CATEGORIES:Women's Ministry
END:VEVENT
BEGIN:VEVENT
DTSTART;TZID=UTC:20250721T103000
DTEND;TZID=UTC:20250721T120000
DTSTAMP:20260424T214421
CREATED:20250624T172509Z
LAST-MODIFIED:20250624T172509Z
UID:2689-1753093800-1753099200@evergreencovenant.org
SUMMARY:Women's Group/Bible Study
DESCRIPTION:
URL:https://evergreencovenant.org/event/womens-group-bible-study-3/
LOCATION:Evergreen Covenant Church\, 7967 South Evergreen Road\, Branch\, MI\, 49402\, United States
CATEGORIES:Women's Ministry
END:VEVENT
BEGIN:VEVENT
DTSTART;TZID=UTC:20250714T103000
DTEND;TZID=UTC:20250714T120000
DTSTAMP:20260424T214421
CREATED:20250624T172434Z
LAST-MODIFIED:20250624T172434Z
UID:2687-1752489000-1752494400@evergreencovenant.org
SUMMARY:Women's Group/Bible Study
DESCRIPTION:
URL:https://evergreencovenant.org/event/womens-group-bible-study-2/
LOCATION:Evergreen Covenant Church\, 7967 South Evergreen Road\, Branch\, MI\, 49402\, United States
CATEGORIES:Women's Ministry
END:VEVENT
BEGIN:VEVENT
DTSTART;TZID=UTC:20250707T103000
DTEND;TZID=UTC:20250707T120000
DTSTAMP:20260424T214421
CREATED:20250624T172148Z
LAST-MODIFIED:20250624T172149Z
UID:2685-1751884200-1751889600@evergreencovenant.org
SUMMARY:Women's Group/Bible Study
DESCRIPTION:
URL:https://evergreencovenant.org/event/womens-group-bible-study/
LOCATION:Evergreen Covenant Church\, 7967 South Evergreen Road\, Branch\, MI\, 49402\, United States
CATEGORIES:Women's Ministry
END:VEVENT
BEGIN:VEVENT
DTSTART;TZID=UTC:20250407T103000
DTEND;TZID=UTC:20250407T120000
DTSTAMP:20260424T214421
CREATED:20240126T171552Z
LAST-MODIFIED:20250216T203410Z
UID:1800-1744021800-1744027200@evergreencovenant.org
SUMMARY:Women's Group
DESCRIPTION:
URL:https://evergreencovenant.org/event/womens-group-9/
LOCATION:Evergreen Covenant Church\, 7967 South Evergreen Road\, Branch\, MI\, 49402\, United States
CATEGORIES:Women's Ministry
END:VEVENT
BEGIN:VEVENT
DTSTART;VALUE=DATE:20241114
DTEND;VALUE=DATE:20241115
DTSTAMP:20260424T214421
CREATED:20240126T171417Z
LAST-MODIFIED:20240126T171417Z
UID:1798-1731542400-1731628799@evergreencovenant.org
SUMMARY:Women's Group: Hunter's Dinner
DESCRIPTION:
URL:https://evergreencovenant.org/event/womens-group-hunters-dinner/
LOCATION:Evergreen Covenant Church\, 7967 South Evergreen Road\, Branch\, MI\, 49402\, United States
CATEGORIES:Women's Ministry
END:VEVENT
BEGIN:VEVENT
DTSTART;TZID=UTC:20241104T103000
DTEND;TZID=UTC:20241104T120000
DTSTAMP:20260424T214421
CREATED:20240126T171321Z
LAST-MODIFIED:20240126T171321Z
UID:1796-1730716200-1730721600@evergreencovenant.org
SUMMARY:Women's Group
DESCRIPTION:
URL:https://evergreencovenant.org/event/womens-group-8/
LOCATION:Evergreen Covenant Church\, 7967 South Evergreen Road\, Branch\, MI\, 49402\, United States
CATEGORIES:Women's Ministry
END:VEVENT
BEGIN:VEVENT
DTSTART;TZID=UTC:20241007T103000
DTEND;TZID=UTC:20241007T120000
DTSTAMP:20260424T214421
CREATED:20240126T171216Z
LAST-MODIFIED:20240126T171216Z
UID:1794-1728297000-1728302400@evergreencovenant.org
SUMMARY:Women's Group
DESCRIPTION:
URL:https://evergreencovenant.org/event/womens-group-7/
LOCATION:Evergreen Covenant Church\, 7967 South Evergreen Road\, Branch\, MI\, 49402\, United States
CATEGORIES:Women's Ministry
END:VEVENT
BEGIN:VEVENT
DTSTART;VALUE=DATE:20240928
DTEND;VALUE=DATE:20240929
DTSTAMP:20260424T214421
CREATED:20240126T171140Z
LAST-MODIFIED:20240126T171140Z
UID:1792-1727481600-1727567999@evergreencovenant.org
SUMMARY:Women's Group: Soup & Sweets Dinner
DESCRIPTION:
URL:https://evergreencovenant.org/event/womens-group-soup-sweets-dinner/
LOCATION:Evergreen Covenant Church\, 7967 South Evergreen Road\, Branch\, MI\, 49402\, United States
CATEGORIES:Women's Ministry
END:VEVENT
BEGIN:VEVENT
DTSTART;TZID=UTC:20240909T103000
DTEND;TZID=UTC:20240909T120000
DTSTAMP:20260424T214421
CREATED:20240126T171049Z
LAST-MODIFIED:20240126T171049Z
UID:1790-1725877800-1725883200@evergreencovenant.org
SUMMARY:Women's Group
DESCRIPTION:
URL:https://evergreencovenant.org/event/womens-group-6/
LOCATION:Evergreen Covenant Church\, 7967 South Evergreen Road\, Branch\, MI\, 49402\, United States
CATEGORIES:Women's Ministry
END:VEVENT
BEGIN:VEVENT
DTSTART;TZID=UTC:20240805T113000
DTEND;TZID=UTC:20240805T123000
DTSTAMP:20260424T214421
CREATED:20240126T170940Z
LAST-MODIFIED:20240126T171017Z
UID:1787-1722857400-1722861000@evergreencovenant.org
SUMMARY:Women's Group: Ice Cream Social
DESCRIPTION:
URL:https://evergreencovenant.org/event/womens-group-5/
LOCATION:Evergreen Covenant Church\, 7967 South Evergreen Road\, Branch\, MI\, 49402\, United States
CATEGORIES:Women's Ministry
END:VEVENT
BEGIN:VEVENT
DTSTART;TZID=UTC:20240701T103000
DTEND;TZID=UTC:20240701T120000
DTSTAMP:20260424T214421
CREATED:20240126T170913Z
LAST-MODIFIED:20240126T170913Z
UID:1785-1719829800-1719835200@evergreencovenant.org
SUMMARY:Women's Group
DESCRIPTION:
URL:https://evergreencovenant.org/event/womens-group-4/
LOCATION:Evergreen Covenant Church\, 7967 South Evergreen Road\, Branch\, MI\, 49402\, United States
CATEGORIES:Women's Ministry
END:VEVENT
BEGIN:VEVENT
DTSTART;VALUE=DATE:20240629
DTEND;VALUE=DATE:20240630
DTSTAMP:20260424T214421
CREATED:20240126T170840Z
LAST-MODIFIED:20240126T170840Z
UID:1783-1719619200-1719705599@evergreencovenant.org
SUMMARY:Women's Group: Garage Sale
DESCRIPTION:
URL:https://evergreencovenant.org/event/womens-group-garage-sale/
LOCATION:Evergreen Covenant Church\, 7967 South Evergreen Road\, Branch\, MI\, 49402\, United States
CATEGORIES:Women's Ministry
END:VEVENT
BEGIN:VEVENT
DTSTART;TZID=UTC:20240603T103000
DTEND;TZID=UTC:20240603T120000
DTSTAMP:20260424T214421
CREATED:20240126T170738Z
LAST-MODIFIED:20240126T170738Z
UID:1781-1717410600-1717416000@evergreencovenant.org
SUMMARY:Women's Group
DESCRIPTION:
URL:https://evergreencovenant.org/event/womens-group-3/
LOCATION:Evergreen Covenant Church\, 7967 South Evergreen Road\, Branch\, MI\, 49402\, United States
CATEGORIES:Women's Ministry
END:VEVENT
BEGIN:VEVENT
DTSTART;TZID=UTC:20240506T103000
DTEND;TZID=UTC:20240506T120000
DTSTAMP:20260424T214421
CREATED:20240126T170704Z
LAST-MODIFIED:20240126T170704Z
UID:1779-1714991400-1714996800@evergreencovenant.org
SUMMARY:Women's Group
DESCRIPTION:
URL:https://evergreencovenant.org/event/womens-group-2/
LOCATION:Evergreen Covenant Church\, 7967 South Evergreen Road\, Branch\, MI\, 49402\, United States
CATEGORIES:Women's Ministry
END:VEVENT
BEGIN:VEVENT
DTSTART;TZID=UTC:20240401T103000
DTEND;TZID=UTC:20240401T120000
DTSTAMP:20260424T214421
CREATED:20240126T170601Z
LAST-MODIFIED:20240126T170601Z
UID:1777-1711967400-1711972800@evergreencovenant.org
SUMMARY:Women's Group
DESCRIPTION:
URL:https://evergreencovenant.org/event/womens-group/
LOCATION:Evergreen Covenant Church\, 7967 South Evergreen Road\, Branch\, MI\, 49402\, United States
CATEGORIES:Women's Ministry
END:VEVENT
END:VCALENDAR