BEGIN:VCALENDAR
VERSION:2.0
PRODID:-//Evergreen Covenant Church - ECPv6.15.20//NONSGML v1.0//EN
CALSCALE:GREGORIAN
METHOD:PUBLISH
X-WR-CALNAME:Evergreen Covenant Church
X-ORIGINAL-URL:https://evergreencovenant.org
X-WR-CALDESC:Events for Evergreen Covenant Church
REFRESH-INTERVAL;VALUE=DURATION:PT1H
X-Robots-Tag:noindex
X-PUBLISHED-TTL:PT1H
BEGIN:VTIMEZONE
TZID:UTC
BEGIN:STANDARD
TZOFFSETFROM:+0000
TZOFFSETTO:+0000
TZNAME:UTC
DTSTART:20210101T000000
END:STANDARD
END:VTIMEZONE
BEGIN:VEVENT
DTSTART;TZID=UTC:20230416T093000
DTEND;TZID=UTC:20230416T110000
DTSTAMP:20260424T203425
CREATED:20230329T194322Z
LAST-MODIFIED:20230329T194322Z
UID:1187-1681637400-1681642800@evergreencovenant.org
SUMMARY:Worship Gathering
DESCRIPTION:
URL:https://evergreencovenant.org/event/worship-gathering-32/
LOCATION:Evergreen Covenant Church\, 7967 South Evergreen Road\, Branch\, MI\, 49402\, United States
CATEGORIES:Worship Service
END:VEVENT
BEGIN:VEVENT
DTSTART;TZID=UTC:20230409T093000
DTEND;TZID=UTC:20230409T110000
DTSTAMP:20260424T203425
CREATED:20230329T194252Z
LAST-MODIFIED:20230329T194252Z
UID:1185-1681032600-1681038000@evergreencovenant.org
SUMMARY:Worship Gathering
DESCRIPTION:
URL:https://evergreencovenant.org/event/worship-gathering-31/
LOCATION:Evergreen Covenant Church\, 7967 South Evergreen Road\, Branch\, MI\, 49402\, United States
CATEGORIES:Worship Service
END:VEVENT
BEGIN:VEVENT
DTSTART;TZID=UTC:20230402T093000
DTEND;TZID=UTC:20230402T110000
DTSTAMP:20260424T203425
CREATED:20230204T234253Z
LAST-MODIFIED:20230204T234253Z
UID:995-1680427800-1680433200@evergreencovenant.org
SUMMARY:Worship Gathering
DESCRIPTION:
URL:https://evergreencovenant.org/event/worship-gathering-29/
LOCATION:Evergreen Covenant Church\, 7967 South Evergreen Road\, Branch\, MI\, 49402\, United States
CATEGORIES:Worship Service
END:VEVENT
BEGIN:VEVENT
DTSTART;TZID=UTC:20230326T093000
DTEND;TZID=UTC:20230326T110000
DTSTAMP:20260424T203425
CREATED:20230204T234225Z
LAST-MODIFIED:20230204T234225Z
UID:993-1679823000-1679828400@evergreencovenant.org
SUMMARY:Worship Gathering
DESCRIPTION:
URL:https://evergreencovenant.org/event/worship-gathering-28/
LOCATION:Evergreen Covenant Church\, 7967 South Evergreen Road\, Branch\, MI\, 49402\, United States
CATEGORIES:Worship Service
END:VEVENT
BEGIN:VEVENT
DTSTART;TZID=UTC:20230319T093000
DTEND;TZID=UTC:20230319T110000
DTSTAMP:20260424T203425
CREATED:20230204T234158Z
LAST-MODIFIED:20230204T234158Z
UID:991-1679218200-1679223600@evergreencovenant.org
SUMMARY:Worship Gathering
DESCRIPTION:
URL:https://evergreencovenant.org/event/worship-gathering-27/
LOCATION:Evergreen Covenant Church\, 7967 South Evergreen Road\, Branch\, MI\, 49402\, United States
CATEGORIES:Worship Service
END:VEVENT
BEGIN:VEVENT
DTSTART;TZID=UTC:20230312T093000
DTEND;TZID=UTC:20230312T110000
DTSTAMP:20260424T203425
CREATED:20230204T234133Z
LAST-MODIFIED:20230204T234133Z
UID:989-1678613400-1678618800@evergreencovenant.org
SUMMARY:Worship Gathering
DESCRIPTION:
URL:https://evergreencovenant.org/event/worship-gathering-26/
LOCATION:Evergreen Covenant Church\, 7967 South Evergreen Road\, Branch\, MI\, 49402\, United States
CATEGORIES:Worship Service
END:VEVENT
BEGIN:VEVENT
DTSTART;TZID=UTC:20230305T093000
DTEND;TZID=UTC:20230305T110000
DTSTAMP:20260424T203425
CREATED:20230204T234107Z
LAST-MODIFIED:20230204T234107Z
UID:987-1678008600-1678014000@evergreencovenant.org
SUMMARY:Worship Gathering
DESCRIPTION:
URL:https://evergreencovenant.org/event/worship-gathering-25/
LOCATION:Evergreen Covenant Church\, 7967 South Evergreen Road\, Branch\, MI\, 49402\, United States
CATEGORIES:Worship Service
END:VEVENT
BEGIN:VEVENT
DTSTART;TZID=UTC:20230226T093000
DTEND;TZID=UTC:20230226T110000
DTSTAMP:20260424T203425
CREATED:20230204T234032Z
LAST-MODIFIED:20230204T234032Z
UID:985-1677403800-1677409200@evergreencovenant.org
SUMMARY:Worship Gathering
DESCRIPTION:
URL:https://evergreencovenant.org/event/worship-gathering-24/
LOCATION:Evergreen Covenant Church\, 7967 South Evergreen Road\, Branch\, MI\, 49402\, United States
CATEGORIES:Worship Service
END:VEVENT
BEGIN:VEVENT
DTSTART;TZID=UTC:20230219T093000
DTEND;TZID=UTC:20230219T110000
DTSTAMP:20260424T203425
CREATED:20230204T234002Z
LAST-MODIFIED:20230204T234002Z
UID:983-1676799000-1676804400@evergreencovenant.org
SUMMARY:Worship Gathering
DESCRIPTION:
URL:https://evergreencovenant.org/event/worship-gathering-23/
LOCATION:Evergreen Covenant Church\, 7967 South Evergreen Road\, Branch\, MI\, 49402\, United States
CATEGORIES:Worship Service
END:VEVENT
BEGIN:VEVENT
DTSTART;TZID=UTC:20230212T093000
DTEND;TZID=UTC:20230212T110000
DTSTAMP:20260424T203425
CREATED:20230204T233819Z
LAST-MODIFIED:20230204T233819Z
UID:981-1676194200-1676199600@evergreencovenant.org
SUMMARY:Worship Gathering
DESCRIPTION:
URL:https://evergreencovenant.org/event/worship-gathering-22/
LOCATION:Evergreen Covenant Church\, 7967 South Evergreen Road\, Branch\, MI\, 49402\, United States
CATEGORIES:Worship Service
END:VEVENT
BEGIN:VEVENT
DTSTART;TZID=UTC:20230205T093000
DTEND;TZID=UTC:20230205T110000
DTSTAMP:20260424T203425
CREATED:20221206T140305Z
LAST-MODIFIED:20221206T140305Z
UID:844-1675589400-1675594800@evergreencovenant.org
SUMMARY:Worship Gathering
DESCRIPTION:
URL:https://evergreencovenant.org/event/worship-gathering-21/
LOCATION:Evergreen Covenant Church\, 7967 South Evergreen Road\, Branch\, MI\, 49402\, United States
CATEGORIES:Worship Service
END:VEVENT
BEGIN:VEVENT
DTSTART;TZID=UTC:20230129T093000
DTEND;TZID=UTC:20230129T110000
DTSTAMP:20260424T203425
CREATED:20221206T140239Z
LAST-MODIFIED:20221206T140239Z
UID:842-1674984600-1674990000@evergreencovenant.org
SUMMARY:Worship Gathering
DESCRIPTION:
URL:https://evergreencovenant.org/event/worship-gathering-20/
LOCATION:Evergreen Covenant Church\, 7967 South Evergreen Road\, Branch\, MI\, 49402\, United States
CATEGORIES:Worship Service
END:VEVENT
BEGIN:VEVENT
DTSTART;TZID=UTC:20230122T093000
DTEND;TZID=UTC:20230122T110000
DTSTAMP:20260424T203425
CREATED:20221206T140215Z
LAST-MODIFIED:20221206T140215Z
UID:840-1674379800-1674385200@evergreencovenant.org
SUMMARY:Worship Gathering
DESCRIPTION:
URL:https://evergreencovenant.org/event/worship-gathering-19/
LOCATION:Evergreen Covenant Church\, 7967 South Evergreen Road\, Branch\, MI\, 49402\, United States
CATEGORIES:Worship Service
END:VEVENT
BEGIN:VEVENT
DTSTART;TZID=UTC:20230115T093000
DTEND;TZID=UTC:20230115T110000
DTSTAMP:20260424T203425
CREATED:20221206T140149Z
LAST-MODIFIED:20221206T140149Z
UID:838-1673775000-1673780400@evergreencovenant.org
SUMMARY:Worship Gathering
DESCRIPTION:
URL:https://evergreencovenant.org/event/worship-gathering-18/
LOCATION:Evergreen Covenant Church\, 7967 South Evergreen Road\, Branch\, MI\, 49402\, United States
CATEGORIES:Worship Service
END:VEVENT
BEGIN:VEVENT
DTSTART;TZID=UTC:20230108T093000
DTEND;TZID=UTC:20230108T110000
DTSTAMP:20260424T203425
CREATED:20221206T140127Z
LAST-MODIFIED:20221206T140127Z
UID:836-1673170200-1673175600@evergreencovenant.org
SUMMARY:Worship Gathering
DESCRIPTION:
URL:https://evergreencovenant.org/event/worship-gathering-17/
LOCATION:Evergreen Covenant Church\, 7967 South Evergreen Road\, Branch\, MI\, 49402\, United States
CATEGORIES:Worship Service
END:VEVENT
BEGIN:VEVENT
DTSTART;TZID=UTC:20230101T093000
DTEND;TZID=UTC:20230101T110000
DTSTAMP:20260424T203425
CREATED:20221106T165401Z
LAST-MODIFIED:20221106T165401Z
UID:753-1672565400-1672570800@evergreencovenant.org
SUMMARY:Worship Gathering
DESCRIPTION:
URL:https://evergreencovenant.org/event/worship-gathering-16/
LOCATION:Evergreen Covenant Church\, 7967 South Evergreen Road\, Branch\, MI\, 49402\, United States
CATEGORIES:Worship Service
END:VEVENT
BEGIN:VEVENT
DTSTART;TZID=UTC:20221225T093000
DTEND;TZID=UTC:20221225T110000
DTSTAMP:20260424T203425
CREATED:20221106T165316Z
LAST-MODIFIED:20221106T165316Z
UID:751-1671960600-1671966000@evergreencovenant.org
SUMMARY:Worship Gathering
DESCRIPTION:
URL:https://evergreencovenant.org/event/worship-gathering-15/
LOCATION:Evergreen Covenant Church\, 7967 South Evergreen Road\, Branch\, MI\, 49402\, United States
CATEGORIES:Worship Service
END:VEVENT
BEGIN:VEVENT
DTSTART;TZID=UTC:20221218T093000
DTEND;TZID=UTC:20221218T110000
DTSTAMP:20260424T203425
CREATED:20221106T165229Z
LAST-MODIFIED:20221106T165229Z
UID:749-1671355800-1671361200@evergreencovenant.org
SUMMARY:Worship Gathering
DESCRIPTION:
URL:https://evergreencovenant.org/event/worship-gathering-14/
LOCATION:Evergreen Covenant Church\, 7967 South Evergreen Road\, Branch\, MI\, 49402\, United States
CATEGORIES:Worship Service
END:VEVENT
BEGIN:VEVENT
DTSTART;TZID=UTC:20221211T093000
DTEND;TZID=UTC:20221211T110000
DTSTAMP:20260424T203425
CREATED:20221106T165156Z
LAST-MODIFIED:20221106T165156Z
UID:747-1670751000-1670756400@evergreencovenant.org
SUMMARY:Worship Gathering
DESCRIPTION:
URL:https://evergreencovenant.org/event/worship-gathering-13/
LOCATION:Evergreen Covenant Church\, 7967 South Evergreen Road\, Branch\, MI\, 49402\, United States
CATEGORIES:Worship Service
END:VEVENT
BEGIN:VEVENT
DTSTART;TZID=UTC:20221204T093000
DTEND;TZID=UTC:20221204T110000
DTSTAMP:20260424T203425
CREATED:20221106T165053Z
LAST-MODIFIED:20221106T165053Z
UID:745-1670146200-1670151600@evergreencovenant.org
SUMMARY:Worship Gathering
DESCRIPTION:
URL:https://evergreencovenant.org/event/worship-gathering-12/
LOCATION:Evergreen Covenant Church\, 7967 South Evergreen Road\, Branch\, MI\, 49402\, United States
CATEGORIES:Worship Service
END:VEVENT
BEGIN:VEVENT
DTSTART;TZID=UTC:20221127T093000
DTEND;TZID=UTC:20221127T110000
DTSTAMP:20260424T203425
CREATED:20220925T155902Z
LAST-MODIFIED:20220925T155902Z
UID:642-1669541400-1669546800@evergreencovenant.org
SUMMARY:Worship Gathering
DESCRIPTION:
URL:https://evergreencovenant.org/event/worship-gathering-11/
LOCATION:Evergreen Covenant Church\, 7967 South Evergreen Road\, Branch\, MI\, 49402\, United States
CATEGORIES:Worship Service
END:VEVENT
BEGIN:VEVENT
DTSTART;TZID=UTC:20221120T093000
DTEND;TZID=UTC:20221120T110000
DTSTAMP:20260424T203425
CREATED:20220925T155822Z
LAST-MODIFIED:20220925T155822Z
UID:640-1668936600-1668942000@evergreencovenant.org
SUMMARY:Worship Gathering
DESCRIPTION:
URL:https://evergreencovenant.org/event/worship-gathering-10/
LOCATION:Evergreen Covenant Church\, 7967 South Evergreen Road\, Branch\, MI\, 49402\, United States
CATEGORIES:Worship Service
END:VEVENT
BEGIN:VEVENT
DTSTART;TZID=UTC:20221113T093000
DTEND;TZID=UTC:20221113T110000
DTSTAMP:20260424T203425
CREATED:20220925T155642Z
LAST-MODIFIED:20220925T155642Z
UID:638-1668331800-1668337200@evergreencovenant.org
SUMMARY:Worship Gathering
DESCRIPTION:
URL:https://evergreencovenant.org/event/worship-gathering-9/
LOCATION:Evergreen Covenant Church\, 7967 South Evergreen Road\, Branch\, MI\, 49402\, United States
CATEGORIES:Worship Service
END:VEVENT
BEGIN:VEVENT
DTSTART;TZID=UTC:20221106T093000
DTEND;TZID=UTC:20221106T110000
DTSTAMP:20260424T203425
CREATED:20220925T155605Z
LAST-MODIFIED:20220925T155605Z
UID:636-1667727000-1667732400@evergreencovenant.org
SUMMARY:Worship Gathering
DESCRIPTION:
URL:https://evergreencovenant.org/event/worship-gathering-8/
LOCATION:Evergreen Covenant Church\, 7967 South Evergreen Road\, Branch\, MI\, 49402\, United States
CATEGORIES:Worship Service
END:VEVENT
BEGIN:VEVENT
DTSTART;TZID=UTC:20221030T093000
DTEND;TZID=UTC:20221030T110000
DTSTAMP:20260424T203425
CREATED:20220925T155507Z
LAST-MODIFIED:20220925T155507Z
UID:634-1667122200-1667127600@evergreencovenant.org
SUMMARY:Worship Gathering
DESCRIPTION:
URL:https://evergreencovenant.org/event/worship-gathering-7/
LOCATION:Evergreen Covenant Church\, 7967 South Evergreen Road\, Branch\, MI\, 49402\, United States
CATEGORIES:Worship Service
END:VEVENT
BEGIN:VEVENT
DTSTART;TZID=UTC:20221023T093000
DTEND;TZID=UTC:20221023T110000
DTSTAMP:20260424T203425
CREATED:20220925T155416Z
LAST-MODIFIED:20220925T155429Z
UID:632-1666517400-1666522800@evergreencovenant.org
SUMMARY:Worship Gathering
DESCRIPTION:
URL:https://evergreencovenant.org/event/worship-gathering-6/
LOCATION:Evergreen Covenant Church\, 7967 South Evergreen Road\, Branch\, MI\, 49402\, United States
CATEGORIES:Worship Service
END:VEVENT
BEGIN:VEVENT
DTSTART;TZID=UTC:20221016T093000
DTEND;TZID=UTC:20221016T110000
DTSTAMP:20260424T203425
CREATED:20220925T155317Z
LAST-MODIFIED:20220925T155317Z
UID:630-1665912600-1665918000@evergreencovenant.org
SUMMARY:Worship Gathering
DESCRIPTION:
URL:https://evergreencovenant.org/event/worship-gathering-5/
LOCATION:Evergreen Covenant Church\, 7967 South Evergreen Road\, Branch\, MI\, 49402\, United States
CATEGORIES:Worship Service
END:VEVENT
BEGIN:VEVENT
DTSTART;TZID=UTC:20221009T093000
DTEND;TZID=UTC:20221009T110000
DTSTAMP:20260424T203425
CREATED:20220925T155235Z
LAST-MODIFIED:20220925T155235Z
UID:628-1665307800-1665313200@evergreencovenant.org
SUMMARY:Worship Gathering
DESCRIPTION:
URL:https://evergreencovenant.org/event/worship-gathering-4/
LOCATION:Evergreen Covenant Church\, 7967 South Evergreen Road\, Branch\, MI\, 49402\, United States
CATEGORIES:Worship Service
END:VEVENT
BEGIN:VEVENT
DTSTART;TZID=UTC:20221002T093000
DTEND;TZID=UTC:20221002T110000
DTSTAMP:20260424T203425
CREATED:20220913T021206Z
LAST-MODIFIED:20220913T021206Z
UID:567-1664703000-1664708400@evergreencovenant.org
SUMMARY:Worship Gathering
DESCRIPTION:
URL:https://evergreencovenant.org/event/worship-gathering-3/
LOCATION:Evergreen Covenant Church\, 7967 South Evergreen Road\, Branch\, MI\, 49402\, United States
CATEGORIES:Worship Service
END:VEVENT
BEGIN:VEVENT
DTSTART;TZID=UTC:20220925T093000
DTEND;TZID=UTC:20220925T110000
DTSTAMP:20260424T203425
CREATED:20220913T021011Z
LAST-MODIFIED:20220913T021011Z
UID:563-1664098200-1664103600@evergreencovenant.org
SUMMARY:Worship Gathering
DESCRIPTION:
URL:https://evergreencovenant.org/event/worship-gathering-2/
LOCATION:Evergreen Covenant Church\, 7967 South Evergreen Road\, Branch\, MI\, 49402\, United States
CATEGORIES:Worship Service
END:VEVENT
END:VCALENDAR