BEGIN:VCALENDAR
VERSION:2.0
PRODID:-//Evergreen Covenant Church - ECPv6.15.20//NONSGML v1.0//EN
CALSCALE:GREGORIAN
METHOD:PUBLISH
X-WR-CALNAME:Evergreen Covenant Church
X-ORIGINAL-URL:https://evergreencovenant.org
X-WR-CALDESC:Events for Evergreen Covenant Church
REFRESH-INTERVAL;VALUE=DURATION:PT1H
X-Robots-Tag:noindex
X-PUBLISHED-TTL:PT1H
BEGIN:VTIMEZONE
TZID:UTC
BEGIN:STANDARD
TZOFFSETFROM:+0000
TZOFFSETTO:+0000
TZNAME:UTC
DTSTART:20240101T000000
END:STANDARD
END:VTIMEZONE
BEGIN:VEVENT
DTSTART;TZID=UTC:20260224T110000
DTEND;TZID=UTC:20260224T120000
DTSTAMP:20260424T195016
CREATED:20250902T142946Z
LAST-MODIFIED:20260223T185900Z
UID:2854-1771930800-1771934400@evergreencovenant.org
SUMMARY:Fresh Food Distribution
DESCRIPTION:Volunteers can arrive as early as 9 am\, but the food will be distributed\, starting at 11 am. \n 
URL:https://evergreencovenant.org/event/fresh-food-distribution-14/
LOCATION:Big Star Lake Fire Barn\, 15580 S Star Lake Drive\, Baldwin\, MI\, 49304\, United States
CATEGORIES:Food Distribution
END:VEVENT
BEGIN:VEVENT
DTSTART;TZID=UTC:20260201T093000
DTEND;TZID=UTC:20260201T110000
DTSTAMP:20260424T195016
CREATED:20240708T220519Z
LAST-MODIFIED:20260204T041253Z
UID:2175-1769938200-1769943600@evergreencovenant.org
SUMMARY:Communion & Worship Gathering
DESCRIPTION:
URL:https://evergreencovenant.org/event/communion-worship-gathering-7/
LOCATION:Evergreen Covenant Church\, 7967 South Evergreen Road\, Branch\, MI\, 49402\, United States
CATEGORIES:Communion,Worship Service
END:VEVENT
BEGIN:VEVENT
DTSTART;TZID=UTC:20260131T090000
DTEND;TZID=UTC:20260131T100000
DTSTAMP:20260424T195016
CREATED:20250810T225714Z
LAST-MODIFIED:20260204T041352Z
UID:2787-1769850000-1769853600@evergreencovenant.org
SUMMARY:Deaconate Meeting
DESCRIPTION:
URL:https://evergreencovenant.org/event/deaconate-meeting-11/
LOCATION:Evergreen Covenant Church\, 7967 South Evergreen Road\, Branch\, MI\, 49402\, United States
CATEGORIES:Deaconate,Meetings
END:VEVENT
BEGIN:VEVENT
DTSTART;TZID=UTC:20260111T110000
DTEND;TZID=UTC:20260111T120000
DTSTAMP:20260424T195016
CREATED:20240128T210528Z
LAST-MODIFIED:20251111T171307Z
UID:1828-1768129200-1768132800@evergreencovenant.org
SUMMARY:Mission Committee Meeting
DESCRIPTION:
URL:https://evergreencovenant.org/event/mission-committee-meeting-21/
LOCATION:Evergreen Covenant Church\, 7967 South Evergreen Road\, Branch\, MI\, 49402\, United States
CATEGORIES:Mission Committee
END:VEVENT
BEGIN:VEVENT
DTSTART;TZID=UTC:20251224T180000
DTEND;TZID=UTC:20251224T191500
DTSTAMP:20260424T195016
CREATED:20241205T034309Z
LAST-MODIFIED:20251209T053824Z
UID:2410-1766599200-1766603700@evergreencovenant.org
SUMMARY:Christmas Eve Service
DESCRIPTION:
URL:https://evergreencovenant.org/event/christmas-eve-service/
LOCATION:Memorial Prayer Chapel
CATEGORIES:Church Events
ATTACH;FMTTYPE=image/png:https://evergreencovenant.org/wp-content/uploads/2024/12/Gemini_Generated_Image_nd2et1nd2et1nd2e-scaled.png
END:VEVENT
BEGIN:VEVENT
DTSTART;TZID=UTC:20251116T150000
DTEND;TZID=UTC:20251116T160000
DTSTAMP:20260424T195016
CREATED:20251020T171541Z
LAST-MODIFIED:20251020T171541Z
UID:2926-1763305200-1763308800@evergreencovenant.org
SUMMARY:"Nobody Liked Paul" Bible Study
DESCRIPTION:
URL:https://evergreencovenant.org/event/nobody-liked-paul-bible-study-4/
LOCATION:Evergreen Covenant Church\, 7967 South Evergreen Road\, Branch\, MI\, 49402\, United States
CATEGORIES:Classes,Outreach
END:VEVENT
BEGIN:VEVENT
DTSTART;TZID=UTC:20251114T173000
DTEND;TZID=UTC:20251114T190000
DTSTAMP:20260424T195016
CREATED:20251023T200737Z
LAST-MODIFIED:20251023T200908Z
UID:2935-1763141400-1763146800@evergreencovenant.org
SUMMARY:Deer Hunter's Dinner
DESCRIPTION:-both indoor dining and ‘take away’ will be available.
URL:https://evergreencovenant.org/event/deer-hunters-dinner-2/
LOCATION:Evergreen Covenant Church\, 7967 South Evergreen Road\, Branch\, MI\, 49402\, United States
CATEGORIES:Church Events
END:VEVENT
BEGIN:VEVENT
DTSTART;TZID=UTC:20251110T100000
DTEND;TZID=UTC:20251110T120000
DTSTAMP:20260424T195016
CREATED:20251020T164303Z
LAST-MODIFIED:20251020T164303Z
UID:2918-1762768800-1762776000@evergreencovenant.org
SUMMARY:GriefShare "Surviving the Holidays"
DESCRIPTION:
URL:https://evergreencovenant.org/event/griefshare-surviving-the-holidays/
LOCATION:Evergreen Covenant Church\, 7967 South Evergreen Road\, Branch\, MI\, 49402\, United States
CATEGORIES:Classes,Outreach
END:VEVENT
BEGIN:VEVENT
DTSTART;TZID=UTC:20251109T150000
DTEND;TZID=UTC:20251109T160000
DTSTAMP:20260424T195016
CREATED:20251020T171435Z
LAST-MODIFIED:20251020T171435Z
UID:2924-1762700400-1762704000@evergreencovenant.org
SUMMARY:"Nobody Liked Paul" Bible Study
DESCRIPTION:
URL:https://evergreencovenant.org/event/nobody-liked-paul-bible-study-3/
LOCATION:Evergreen Covenant Church\, 7967 South Evergreen Road\, Branch\, MI\, 49402\, United States
CATEGORIES:Classes,Outreach
END:VEVENT
BEGIN:VEVENT
DTSTART;TZID=UTC:20251109T110000
DTEND;TZID=UTC:20251109T120000
DTSTAMP:20260424T195016
CREATED:20250902T142731Z
LAST-MODIFIED:20251102T182804Z
UID:2850-1762686000-1762689600@evergreencovenant.org
SUMMARY:Mission Board Meeting
DESCRIPTION:Following service
URL:https://evergreencovenant.org/event/mission-board-meeting/
LOCATION:Evergreen Covenant Church\, 7967 South Evergreen Road\, Branch\, MI\, 49402\, United States
CATEGORIES:Mission Committee
END:VEVENT
BEGIN:VEVENT
DTSTART;TZID=UTC:20251103T103000
DTEND;TZID=UTC:20251103T120000
DTSTAMP:20260424T195016
CREATED:20250902T142518Z
LAST-MODIFIED:20251102T182700Z
UID:2848-1762165800-1762171200@evergreencovenant.org
SUMMARY:Women's Group/Bible Study
DESCRIPTION:
URL:https://evergreencovenant.org/event/womens-group-bible-study-6/
LOCATION:Evergreen Covenant Church\, 7967 South Evergreen Road\, Branch\, MI\, 49402\, United States
CATEGORIES:Women's Ministry
END:VEVENT
BEGIN:VEVENT
DTSTART;TZID=UTC:20251102T150000
DTEND;TZID=UTC:20251102T160000
DTSTAMP:20260424T195016
CREATED:20251020T171347Z
LAST-MODIFIED:20251020T171347Z
UID:2922-1762095600-1762099200@evergreencovenant.org
SUMMARY:"Nobody Liked Paul" Bible Study
DESCRIPTION:
URL:https://evergreencovenant.org/event/nobody-liked-paul-bible-study-2/
LOCATION:Evergreen Covenant Church\, 7967 South Evergreen Road\, Branch\, MI\, 49402\, United States
CATEGORIES:Classes,Outreach
END:VEVENT
BEGIN:VEVENT
DTSTART;TZID=UTC:20251028T110000
DTEND;TZID=UTC:20251028T120000
DTSTAMP:20260424T195016
CREATED:20251020T163552Z
LAST-MODIFIED:20251020T163552Z
UID:2915-1761649200-1761652800@evergreencovenant.org
SUMMARY:Fresh Food Distribution
DESCRIPTION:Volunteers can arrive as early as 9 am\, but the food will be distributed\, starting at 11 am. \n 
URL:https://evergreencovenant.org/event/fresh-food-distribution-15/
LOCATION:Big Star Lake Fire Barn\, 15580 S Star Lake Drive\, Baldwin\, MI\, 49304\, United States
CATEGORIES:Food Distribution
END:VEVENT
BEGIN:VEVENT
DTSTART;TZID=UTC:20251026T150000
DTEND;TZID=UTC:20251026T160000
DTSTAMP:20260424T195016
CREATED:20251020T171245Z
LAST-MODIFIED:20251020T171245Z
UID:2920-1761490800-1761494400@evergreencovenant.org
SUMMARY:"Nobody Liked Paul" Bible Study
DESCRIPTION:
URL:https://evergreencovenant.org/event/nobody-liked-paul-bible-study/
LOCATION:Evergreen Covenant Church\, 7967 South Evergreen Road\, Branch\, MI\, 49402\, United States
CATEGORIES:Classes,Outreach
END:VEVENT
BEGIN:VEVENT
DTSTART;TZID=UTC:20251019T100000
DTEND;TZID=UTC:20251019T130000
DTSTAMP:20260424T195016
CREATED:20250912T043734Z
LAST-MODIFIED:20250912T043734Z
UID:2859-1760868000-1760878800@evergreencovenant.org
SUMMARY:Worship Gathering\, Congregational Meeting\, & Charity Drive
DESCRIPTION:Congregational meeting following service. \nAt 12:00 we will have Soup and ice cream with a bake sale.  Proceeds going to charity!
URL:https://evergreencovenant.org/event/worship-gathering-congregational-meeting-charity-drive/
LOCATION:Evergreen Covenant Church\, 7967 South Evergreen Road\, Branch\, MI\, 49402\, United States
CATEGORIES:Church Events,Worship Service
END:VEVENT
BEGIN:VEVENT
DTSTART;TZID=UTC:20251005T093000
DTEND;TZID=UTC:20251005T110000
DTSTAMP:20260424T195016
CREATED:20250929T163429Z
LAST-MODIFIED:20250929T163429Z
UID:2893-1759656600-1759662000@evergreencovenant.org
SUMMARY:World Communion Sunday
DESCRIPTION:Gluten Free Communion
URL:https://evergreencovenant.org/event/world-communion-sunday/
LOCATION:Evergreen Covenant Church\, 7967 South Evergreen Road\, Branch\, MI\, 49402\, United States
CATEGORIES:Communion,Worship Service
END:VEVENT
BEGIN:VEVENT
DTSTART;TZID=UTC:20250928T093000
DTEND;TZID=UTC:20250928T110000
DTSTAMP:20260424T195016
CREATED:20250810T230200Z
LAST-MODIFIED:20250810T230200Z
UID:2803-1759051800-1759057200@evergreencovenant.org
SUMMARY:Worship Service
DESCRIPTION:
URL:https://evergreencovenant.org/event/worship-service-11/
LOCATION:Evergreen Covenant Church\, 7967 South Evergreen Road\, Branch\, MI\, 49402\, United States
CATEGORIES:Worship Service
END:VEVENT
BEGIN:VEVENT
DTSTART;TZID=UTC:20250928T093000
DTEND;TZID=UTC:20250928T110000
DTSTAMP:20260424T195016
CREATED:20250810T225757Z
LAST-MODIFIED:20250929T163129Z
UID:2789-1759051800-1759057200@evergreencovenant.org
SUMMARY:Worship Gathering
DESCRIPTION:
URL:https://evergreencovenant.org/event/worship-gathering-37/
LOCATION:Evergreen Covenant Church\, 7967 South Evergreen Road\, Branch\, MI\, 49402\, United States
CATEGORIES:Communion,Worship Service
END:VEVENT
BEGIN:VEVENT
DTSTART;TZID=UTC:20250924T173000
DTEND;TZID=UTC:20250924T190000
DTSTAMP:20260424T195016
CREATED:20250902T143045Z
LAST-MODIFIED:20250902T143045Z
UID:2856-1758735000-1758740400@evergreencovenant.org
SUMMARY:Community Pasta Dinner
DESCRIPTION:
URL:https://evergreencovenant.org/event/community-pasta-dinner-2/
LOCATION:Evergreen Covenant Church\, 7967 South Evergreen Road\, Branch\, MI\, 49402\, United States
CATEGORIES:Church Events
END:VEVENT
BEGIN:VEVENT
DTSTART;TZID=UTC:20250921T093000
DTEND;TZID=UTC:20250921T110000
DTSTAMP:20260424T195016
CREATED:20250810T230136Z
LAST-MODIFIED:20250810T230136Z
UID:2801-1758447000-1758452400@evergreencovenant.org
SUMMARY:Worship Service
DESCRIPTION:
URL:https://evergreencovenant.org/event/worship-service-10/
LOCATION:Evergreen Covenant Church\, 7967 South Evergreen Road\, Branch\, MI\, 49402\, United States
CATEGORIES:Worship Service
END:VEVENT
BEGIN:VEVENT
DTSTART;TZID=UTC:20250914T093000
DTEND;TZID=UTC:20250914T110000
DTSTAMP:20260424T195016
CREATED:20250810T230119Z
LAST-MODIFIED:20250810T230119Z
UID:2799-1757842200-1757847600@evergreencovenant.org
SUMMARY:Worship Service
DESCRIPTION:
URL:https://evergreencovenant.org/event/worship-service-9/
LOCATION:Evergreen Covenant Church\, 7967 South Evergreen Road\, Branch\, MI\, 49402\, United States
CATEGORIES:Worship Service
END:VEVENT
BEGIN:VEVENT
DTSTART;TZID=UTC:20250907T110000
DTEND;TZID=UTC:20250907T120000
DTSTAMP:20260424T195016
CREATED:20231221T201432Z
LAST-MODIFIED:20250825T125952Z
UID:1728-1757242800-1757246400@evergreencovenant.org
SUMMARY:Executive Board Meeting
DESCRIPTION:
URL:https://evergreencovenant.org/event/executive-board-meeting-10/
LOCATION:Evergreen Covenant Church\, 7967 South Evergreen Road\, Branch\, MI\, 49402\, United States
CATEGORIES:Board
END:VEVENT
BEGIN:VEVENT
DTSTART;TZID=UTC:20250907T093000
DTEND;TZID=UTC:20250907T110000
DTSTAMP:20260424T195016
CREATED:20250810T230045Z
LAST-MODIFIED:20250818T222642Z
UID:2797-1757237400-1757242800@evergreencovenant.org
SUMMARY:ATC Worship Service
DESCRIPTION:
URL:https://evergreencovenant.org/event/worship-service-8/
LOCATION:Evergreen Covenant Church\, 7967 South Evergreen Road\, Branch\, MI\, 49402\, United States
CATEGORIES:Worship Service
END:VEVENT
BEGIN:VEVENT
DTSTART;TZID=UTC:20250831T093000
DTEND;TZID=UTC:20250831T110000
DTSTAMP:20260424T195016
CREATED:20250810T230017Z
LAST-MODIFIED:20250810T230017Z
UID:2795-1756632600-1756638000@evergreencovenant.org
SUMMARY:Worship Service
DESCRIPTION:
URL:https://evergreencovenant.org/event/worship-service-7/
LOCATION:Evergreen Covenant Church\, 7967 South Evergreen Road\, Branch\, MI\, 49402\, United States
CATEGORIES:Worship Service
END:VEVENT
BEGIN:VEVENT
DTSTART;TZID=UTC:20250827T173000
DTEND;TZID=UTC:20250827T190000
DTSTAMP:20260424T195016
CREATED:20250806T045515Z
LAST-MODIFIED:20250806T045515Z
UID:2774-1756315800-1756321200@evergreencovenant.org
SUMMARY:Community Pasta Dinner
DESCRIPTION:
URL:https://evergreencovenant.org/event/community-pasta-dinner/
LOCATION:Evergreen Covenant Church\, 7967 South Evergreen Road\, Branch\, MI\, 49402\, United States
CATEGORIES:Church Events
END:VEVENT
BEGIN:VEVENT
DTSTART;TZID=UTC:20250826T100000
DTEND;TZID=UTC:20250826T120000
DTSTAMP:20260424T195016
CREATED:20250806T045430Z
LAST-MODIFIED:20250806T045430Z
UID:2772-1756202400-1756209600@evergreencovenant.org
SUMMARY:Fresh Food Distribution
DESCRIPTION:  \n 
URL:https://evergreencovenant.org/event/fresh-food-distribution-13/
LOCATION:Grace Lutheran Church\, 8636 South M-37\, Baldwin\, 49307\, United States
CATEGORIES:Food Distribution
END:VEVENT
BEGIN:VEVENT
DTSTART;TZID=UTC:20250824T093000
DTEND;TZID=UTC:20250824T110000
DTSTAMP:20260424T195016
CREATED:20250810T225954Z
LAST-MODIFIED:20250810T225954Z
UID:2793-1756027800-1756033200@evergreencovenant.org
SUMMARY:Worship Service
DESCRIPTION:
URL:https://evergreencovenant.org/event/worship-service-6/
LOCATION:Evergreen Covenant Church\, 7967 South Evergreen Road\, Branch\, MI\, 49402\, United States
CATEGORIES:Worship Service
END:VEVENT
BEGIN:VEVENT
DTSTART;TZID=UTC:20250817T110000
DTEND;TZID=UTC:20250817T120000
DTSTAMP:20260424T195016
CREATED:20250806T045214Z
LAST-MODIFIED:20250806T045214Z
UID:2770-1755428400-1755432000@evergreencovenant.org
SUMMARY:Trustee Meeting
DESCRIPTION:
URL:https://evergreencovenant.org/event/trustee-meeting-8/
LOCATION:Evergreen Covenant Church\, 7967 South Evergreen Road\, Branch\, MI\, 49402\, United States
CATEGORIES:Trustees
END:VEVENT
BEGIN:VEVENT
DTSTART;TZID=UTC:20250817T093000
DTEND;TZID=UTC:20250817T110000
DTSTAMP:20260424T195016
CREATED:20250810T225921Z
LAST-MODIFIED:20250810T225921Z
UID:2791-1755423000-1755428400@evergreencovenant.org
SUMMARY:Worship Service
DESCRIPTION:
URL:https://evergreencovenant.org/event/worship-service-5/
LOCATION:Evergreen Covenant Church\, 7967 South Evergreen Road\, Branch\, MI\, 49402\, United States
CATEGORIES:Worship Service
END:VEVENT
BEGIN:VEVENT
DTSTART;TZID=UTC:20250804T103000
DTEND;TZID=UTC:20250804T120000
DTSTAMP:20260424T195016
CREATED:20250624T172552Z
LAST-MODIFIED:20250624T172552Z
UID:2693-1754303400-1754308800@evergreencovenant.org
SUMMARY:Women's Group/Bible Study
DESCRIPTION:
URL:https://evergreencovenant.org/event/womens-group-bible-study-5/
LOCATION:Evergreen Covenant Church\, 7967 South Evergreen Road\, Branch\, MI\, 49402\, United States
CATEGORIES:Women's Ministry
END:VEVENT
END:VCALENDAR