BEGIN:VCALENDAR
VERSION:2.0
PRODID:-//Evergreen Covenant Church - ECPv6.15.20//NONSGML v1.0//EN
CALSCALE:GREGORIAN
METHOD:PUBLISH
X-WR-CALNAME:Evergreen Covenant Church
X-ORIGINAL-URL:https://evergreencovenant.org
X-WR-CALDESC:Events for Evergreen Covenant Church
REFRESH-INTERVAL;VALUE=DURATION:PT1H
X-Robots-Tag:noindex
X-PUBLISHED-TTL:PT1H
BEGIN:VTIMEZONE
TZID:UTC
BEGIN:STANDARD
TZOFFSETFROM:+0000
TZOFFSETTO:+0000
TZNAME:UTC
DTSTART:20230101T000000
END:STANDARD
END:VTIMEZONE
BEGIN:VEVENT
DTSTART;TZID=UTC:20240811T110000
DTEND;TZID=UTC:20240811T120000
DTSTAMP:20260425T035457
CREATED:20240128T210316Z
LAST-MODIFIED:20240128T210316Z
UID:1820-1723374000-1723377600@evergreencovenant.org
SUMMARY:Mission Committee Meeting
DESCRIPTION:
URL:https://evergreencovenant.org/event/mission-committee-meeting-17/
LOCATION:Evergreen Covenant Church\, 7967 South Evergreen Road\, Branch\, MI\, 49402\, United States
CATEGORIES:Mission Committee
END:VEVENT
BEGIN:VEVENT
DTSTART;TZID=UTC:20240811T093000
DTEND;TZID=UTC:20240811T110000
DTSTAMP:20260425T035457
CREATED:20230329T194711Z
LAST-MODIFIED:20240805T194031Z
UID:1197-1723368600-1723374000@evergreencovenant.org
SUMMARY:Worship Service
DESCRIPTION:We will have an update on our fresh food distribution program during the service!
URL:https://evergreencovenant.org/event/worship-service/
LOCATION:Evergreen Covenant Church\, 7967 South Evergreen Road\, Branch\, MI\, 49402\, United States
CATEGORIES:Worship Service
END:VEVENT
BEGIN:VEVENT
DTSTART;TZID=UTC:20240805T113000
DTEND;TZID=UTC:20240805T123000
DTSTAMP:20260425T035457
CREATED:20240126T170940Z
LAST-MODIFIED:20240126T171017Z
UID:1787-1722857400-1722861000@evergreencovenant.org
SUMMARY:Women's Group: Ice Cream Social
DESCRIPTION:
URL:https://evergreencovenant.org/event/womens-group-5/
LOCATION:Evergreen Covenant Church\, 7967 South Evergreen Road\, Branch\, MI\, 49402\, United States
CATEGORIES:Women's Ministry
END:VEVENT
BEGIN:VEVENT
DTSTART;TZID=UTC:20240804T110000
DTEND;TZID=UTC:20240804T120000
DTSTAMP:20260425T035457
CREATED:20231221T201308Z
LAST-MODIFIED:20240708T220625Z
UID:1726-1722769200-1722772800@evergreencovenant.org
SUMMARY:Executive Board Meeting
DESCRIPTION:
URL:https://evergreencovenant.org/event/executive-board-meeting-9/
LOCATION:Evergreen Covenant Church\, 7967 South Evergreen Road\, Branch\, MI\, 49402\, United States
CATEGORIES:Board
END:VEVENT
BEGIN:VEVENT
DTSTART;TZID=UTC:20240724T173000
DTEND;TZID=UTC:20240724T190000
DTSTAMP:20260425T035457
CREATED:20240128T212035Z
LAST-MODIFIED:20240523T033951Z
UID:1862-1721842200-1721847600@evergreencovenant.org
SUMMARY:Community Pasta Dinner
DESCRIPTION:
URL:https://evergreencovenant.org/event/pasta-dinner-16/
LOCATION:Evergreen Covenant Church\, 7967 South Evergreen Road\, Branch\, MI\, 49402\, United States
CATEGORIES:Church Events
END:VEVENT
BEGIN:VEVENT
DTSTART;TZID=UTC:20240723T110000
DTEND;TZID=UTC:20240723T120000
DTSTAMP:20260425T035457
CREATED:20240128T211049Z
LAST-MODIFIED:20240523T033706Z
UID:1840-1721732400-1721736000@evergreencovenant.org
SUMMARY:Fresh Food Distribution
DESCRIPTION:Volunteers can arrive as early as 9 am\, but the food will be distributed\, starting at 11 am. \n 
URL:https://evergreencovenant.org/event/fresh-food-distribution-7/
LOCATION:Grace Lutheran Church\, 8636 South M-37\, Baldwin\, 49307\, United States
CATEGORIES:Food Distribution
END:VEVENT
BEGIN:VEVENT
DTSTART;TZID=UTC:20240721T104500
DTEND;TZID=UTC:20240721T120000
DTSTAMP:20260425T035457
CREATED:20240708T220359Z
LAST-MODIFIED:20240708T220359Z
UID:2173-1721558700-1721563200@evergreencovenant.org
SUMMARY:Trustee Meeting
DESCRIPTION:
URL:https://evergreencovenant.org/event/trustee-meeting-6/
LOCATION:Evergreen Covenant Church\, 7967 South Evergreen Road\, Branch\, MI\, 49402\, United States
CATEGORIES:Trustees
END:VEVENT
BEGIN:VEVENT
DTSTART;TZID=UTC:20240714T110000
DTEND;TZID=UTC:20240714T120000
DTSTAMP:20260425T035457
CREATED:20240128T210233Z
LAST-MODIFIED:20240128T210233Z
UID:1818-1720954800-1720958400@evergreencovenant.org
SUMMARY:Mission Committee Meeting
DESCRIPTION:
URL:https://evergreencovenant.org/event/mission-committee-meeting-16/
LOCATION:Evergreen Covenant Church\, 7967 South Evergreen Road\, Branch\, MI\, 49402\, United States
CATEGORIES:Mission Committee
END:VEVENT
BEGIN:VEVENT
DTSTART;TZID=UTC:20240701T103000
DTEND;TZID=UTC:20240701T120000
DTSTAMP:20260425T035457
CREATED:20240126T170913Z
LAST-MODIFIED:20240126T170913Z
UID:1785-1719829800-1719835200@evergreencovenant.org
SUMMARY:Women's Group
DESCRIPTION:
URL:https://evergreencovenant.org/event/womens-group-4/
LOCATION:Evergreen Covenant Church\, 7967 South Evergreen Road\, Branch\, MI\, 49402\, United States
CATEGORIES:Women's Ministry
END:VEVENT
BEGIN:VEVENT
DTSTART;TZID=UTC:20240629T090000
DTEND;TZID=UTC:20240629T150000
DTSTAMP:20260425T035457
CREATED:20240603T195015Z
LAST-MODIFIED:20240603T195015Z
UID:2116-1719651600-1719673200@evergreencovenant.org
SUMMARY:Church Yard Sale
DESCRIPTION:
URL:https://evergreencovenant.org/event/church-yard-sale/
LOCATION:Evergreen Covenant Church\, 7967 South Evergreen Road\, Branch\, MI\, 49402\, United States
CATEGORIES:Church Events
END:VEVENT
BEGIN:VEVENT
DTSTART;VALUE=DATE:20240629
DTEND;VALUE=DATE:20240630
DTSTAMP:20260425T035457
CREATED:20240126T170840Z
LAST-MODIFIED:20240126T170840Z
UID:1783-1719619200-1719705599@evergreencovenant.org
SUMMARY:Women's Group: Garage Sale
DESCRIPTION:
URL:https://evergreencovenant.org/event/womens-group-garage-sale/
LOCATION:Evergreen Covenant Church\, 7967 South Evergreen Road\, Branch\, MI\, 49402\, United States
CATEGORIES:Women's Ministry
END:VEVENT
BEGIN:VEVENT
DTSTART;TZID=UTC:20240626T173000
DTEND;TZID=UTC:20240626T190000
DTSTAMP:20260425T035457
CREATED:20240128T212010Z
LAST-MODIFIED:20240523T034002Z
UID:1860-1719423000-1719428400@evergreencovenant.org
SUMMARY:Community Pasta Dinner
DESCRIPTION:
URL:https://evergreencovenant.org/event/pasta-dinner-15/
LOCATION:Evergreen Covenant Church\, 7967 South Evergreen Road\, Branch\, MI\, 49402\, United States
CATEGORIES:Church Events
END:VEVENT
BEGIN:VEVENT
DTSTART;TZID=UTC:20240625T110000
DTEND;TZID=UTC:20240625T120000
DTSTAMP:20260425T035457
CREATED:20240128T211008Z
LAST-MODIFIED:20240523T033732Z
UID:1838-1719313200-1719316800@evergreencovenant.org
SUMMARY:Fresh Food Distribution
DESCRIPTION:Volunteers can arrive as early as 9 am\, but the food will be distributed\, starting at 11 am. \n 
URL:https://evergreencovenant.org/event/fresh-food-distribution-6/
LOCATION:Grace Lutheran Church\, 8636 South M-37\, Baldwin\, 49307\, United States
CATEGORIES:Food Distribution
END:VEVENT
BEGIN:VEVENT
DTSTART;TZID=UTC:20240623T110000
DTEND;TZID=UTC:20240623T120000
DTSTAMP:20260425T035457
CREATED:20240128T210113Z
LAST-MODIFIED:20240520T145506Z
UID:1816-1719140400-1719144000@evergreencovenant.org
SUMMARY:Mission Committee Meeting
DESCRIPTION:Immediately following Worship Service
URL:https://evergreencovenant.org/event/mission-committee-meeting-15/
LOCATION:Evergreen Covenant Church\, 7967 South Evergreen Road\, Branch\, MI\, 49402\, United States
CATEGORIES:Mission Committee
END:VEVENT
BEGIN:VEVENT
DTSTART;TZID=UTC:20240616T093000
DTEND;TZID=UTC:20240616T110000
DTSTAMP:20260425T035457
CREATED:20240520T144339Z
LAST-MODIFIED:20240520T144339Z
UID:2057-1718530200-1718535600@evergreencovenant.org
SUMMARY:Father's Day - Worship Service
DESCRIPTION:
URL:https://evergreencovenant.org/event/fathers-day-worship-service/
LOCATION:Evergreen Covenant Church\, 7967 South Evergreen Road\, Branch\, MI\, 49402\, United States
CATEGORIES:Worship Service
END:VEVENT
BEGIN:VEVENT
DTSTART;TZID=UTC:20240609T110000
DTEND;TZID=UTC:20240609T120000
DTSTAMP:20260425T035457
CREATED:20231221T201234Z
LAST-MODIFIED:20240520T144507Z
UID:1724-1717930800-1717934400@evergreencovenant.org
SUMMARY:Executive Board Meeting
DESCRIPTION:Immediately following Worship Service
URL:https://evergreencovenant.org/event/executive-board-meeting-8/
LOCATION:Evergreen Covenant Church\, 7967 South Evergreen Road\, Branch\, MI\, 49402\, United States
CATEGORIES:Board
END:VEVENT
BEGIN:VEVENT
DTSTART;TZID=UTC:20240609T093000
DTEND;TZID=UTC:20240609T110000
DTSTAMP:20260425T035457
CREATED:20240520T144800Z
LAST-MODIFIED:20240605T032858Z
UID:2064-1717925400-1717930800@evergreencovenant.org
SUMMARY:Worship Service & Mission Moment
DESCRIPTION:
URL:https://evergreencovenant.org/event/worship-service-3/
LOCATION:Evergreen Covenant Church\, 7967 South Evergreen Road\, Branch\, MI\, 49402\, United States
CATEGORIES:Worship Service
END:VEVENT
BEGIN:VEVENT
DTSTART;TZID=UTC:20240603T103000
DTEND;TZID=UTC:20240603T120000
DTSTAMP:20260425T035457
CREATED:20240126T170738Z
LAST-MODIFIED:20240126T170738Z
UID:1781-1717410600-1717416000@evergreencovenant.org
SUMMARY:Women's Group
DESCRIPTION:
URL:https://evergreencovenant.org/event/womens-group-3/
LOCATION:Evergreen Covenant Church\, 7967 South Evergreen Road\, Branch\, MI\, 49402\, United States
CATEGORIES:Women's Ministry
END:VEVENT
BEGIN:VEVENT
DTSTART;TZID=UTC:20240602T110000
DTEND;TZID=UTC:20240602T130000
DTSTAMP:20260425T035457
CREATED:20240520T143916Z
LAST-MODIFIED:20240520T143916Z
UID:2055-1717326000-1717333200@evergreencovenant.org
SUMMARY:Dean Lewis Memorial Service
DESCRIPTION:
URL:https://evergreencovenant.org/event/dean-lewis-memorial-service/
LOCATION:Evergreen Covenant Church\, 7967 South Evergreen Road\, Branch\, MI\, 49402\, United States
CATEGORIES:Memorial Service
END:VEVENT
BEGIN:VEVENT
DTSTART;TZID=UTC:20240602T093000
DTEND;TZID=UTC:20240602T110000
DTSTAMP:20260425T035457
CREATED:20240520T144732Z
LAST-MODIFIED:20240520T144732Z
UID:2062-1717320600-1717326000@evergreencovenant.org
SUMMARY:Worship Service
DESCRIPTION:
URL:https://evergreencovenant.org/event/worship-service-2/
LOCATION:Evergreen Covenant Church\, 7967 South Evergreen Road\, Branch\, MI\, 49402\, United States
CATEGORIES:Worship Service
END:VEVENT
BEGIN:VEVENT
DTSTART;TZID=UTC:20240601T083000
DTEND;TZID=UTC:20240601T100000
DTSTAMP:20260425T035457
CREATED:20240410T015511Z
LAST-MODIFIED:20240410T015511Z
UID:1999-1717230600-1717236000@evergreencovenant.org
SUMMARY:Deaconate Meeting with Communion Setup
DESCRIPTION:
URL:https://evergreencovenant.org/event/deaconate-meeting-with-communion-setup/
LOCATION:Evergreen Covenant Church\, 7967 South Evergreen Road\, Branch\, MI\, 49402\, United States
CATEGORIES:Deaconate,Meetings
END:VEVENT
BEGIN:VEVENT
DTSTART;TZID=UTC:20240529T173000
DTEND;TZID=UTC:20240529T190000
DTSTAMP:20260425T035457
CREATED:20240128T211908Z
LAST-MODIFIED:20240523T033817Z
UID:1858-1717003800-1717009200@evergreencovenant.org
SUMMARY:Community Pasta Dinner
DESCRIPTION:
URL:https://evergreencovenant.org/event/pasta-dinner-14/
LOCATION:Evergreen Covenant Church\, 7967 South Evergreen Road\, Branch\, MI\, 49402\, United States
CATEGORIES:Church Events
END:VEVENT
BEGIN:VEVENT
DTSTART;TZID=UTC:20240528T110000
DTEND;TZID=UTC:20240528T120000
DTSTAMP:20260425T035457
CREATED:20240128T210944Z
LAST-MODIFIED:20240523T033538Z
UID:1836-1716894000-1716897600@evergreencovenant.org
SUMMARY:Fresh Food Distribution
DESCRIPTION:Volunteers can arrive as early as 9 am\, but the food will be distributed\, starting at 11 am. \n 
URL:https://evergreencovenant.org/event/fresh-food-distribution-5/
LOCATION:Grace Lutheran Church\, 8636 South M-37\, Baldwin\, 49307\, United States
CATEGORIES:Food Distribution
END:VEVENT
BEGIN:VEVENT
DTSTART;TZID=UTC:20240526T093000
DTEND;TZID=UTC:20240526T110000
DTSTAMP:20260425T035457
CREATED:20240513T165050Z
LAST-MODIFIED:20240520T145339Z
UID:2041-1716715800-1716721200@evergreencovenant.org
SUMMARY:Worship Gathering & Mission Moment
DESCRIPTION:Josh & Concelia Warber are back in Michigan for rest and to gather support. \nThey’ll be updating us on their anti-human trafficking initiatives in the Philippines during a Mission Moment on Sunday\, May 26th\, Memorial Day weekend. Please stop by and visit with them after church at the table in the fellowship hall.  There will be a jar available for donations on the table as well.
URL:https://evergreencovenant.org/event/worship-gathering-mission-moment/
LOCATION:Evergreen Covenant Church\, 7967 South Evergreen Road\, Branch\, MI\, 49402\, United States
CATEGORIES:Worship Service
END:VEVENT
BEGIN:VEVENT
DTSTART;TZID=UTC:20240519T110000
DTEND;TZID=UTC:20240519T120000
DTSTAMP:20260425T035457
CREATED:20240128T210045Z
LAST-MODIFIED:20240415T190753Z
UID:1814-1716116400-1716120000@evergreencovenant.org
SUMMARY:Mission Committee Meeting
DESCRIPTION:
URL:https://evergreencovenant.org/event/mission-committee-meeting-14/
LOCATION:Evergreen Covenant Church\, 7967 South Evergreen Road\, Branch\, MI\, 49402\, United States
CATEGORIES:Mission Committee
END:VEVENT
BEGIN:VEVENT
DTSTART;TZID=UTC:20240518T090000
DTEND;TZID=UTC:20240518T120000
DTSTAMP:20260425T035457
CREATED:20240417T162300Z
LAST-MODIFIED:20240417T162300Z
UID:2013-1716022800-1716033600@evergreencovenant.org
SUMMARY:Church Clean-up Day
DESCRIPTION:
URL:https://evergreencovenant.org/event/church-clean-up-day-2024/
LOCATION:Evergreen Covenant Church\, 7967 South Evergreen Road\, Branch\, MI\, 49402\, United States
CATEGORIES:Church Events
END:VEVENT
BEGIN:VEVENT
DTSTART;TZID=UTC:20240506T103000
DTEND;TZID=UTC:20240506T120000
DTSTAMP:20260425T035457
CREATED:20240126T170704Z
LAST-MODIFIED:20240126T170704Z
UID:1779-1714991400-1714996800@evergreencovenant.org
SUMMARY:Women's Group
DESCRIPTION:
URL:https://evergreencovenant.org/event/womens-group-2/
LOCATION:Evergreen Covenant Church\, 7967 South Evergreen Road\, Branch\, MI\, 49402\, United States
CATEGORIES:Women's Ministry
END:VEVENT
BEGIN:VEVENT
DTSTART;TZID=UTC:20240504T090000
DTEND;TZID=UTC:20240504T100000
DTSTAMP:20260425T035457
CREATED:20240410T015351Z
LAST-MODIFIED:20240410T015351Z
UID:1997-1714813200-1714816800@evergreencovenant.org
SUMMARY:Deaconate Meeting
DESCRIPTION:
URL:https://evergreencovenant.org/event/deaconate-meeting-9/
LOCATION:Evergreen Covenant Church\, 7967 South Evergreen Road\, Branch\, MI\, 49402\, United States
CATEGORIES:Deaconate,Meetings
END:VEVENT
BEGIN:VEVENT
DTSTART;TZID=UTC:20240428T110000
DTEND;TZID=UTC:20240428T120000
DTSTAMP:20260425T035457
CREATED:20231221T201924Z
LAST-MODIFIED:20231221T201924Z
UID:1732-1714302000-1714305600@evergreencovenant.org
SUMMARY:Congregational Meeting
DESCRIPTION:
URL:https://evergreencovenant.org/event/congregational-meeting-3/
LOCATION:Evergreen Covenant Church\, 7967 South Evergreen Road\, Branch\, MI\, 49402\, United States
CATEGORIES:Meetings
END:VEVENT
BEGIN:VEVENT
DTSTART;TZID=UTC:20240426T113000
DTEND;TZID=UTC:20240426T130000
DTSTAMP:20260425T035457
CREATED:20240416T184648Z
LAST-MODIFIED:20240416T184648Z
UID:2011-1714131000-1714136400@evergreencovenant.org
SUMMARY:Arts & Crafts
DESCRIPTION:
URL:https://evergreencovenant.org/event/arts-crafts/
LOCATION:Evergreen Covenant Church\, 7967 South Evergreen Road\, Branch\, MI\, 49402\, United States
CATEGORIES:Church Events
END:VEVENT
END:VCALENDAR