BEGIN:VCALENDAR
VERSION:2.0
PRODID:-//Evergreen Covenant Church - ECPv6.15.20//NONSGML v1.0//EN
CALSCALE:GREGORIAN
METHOD:PUBLISH
X-ORIGINAL-URL:https://evergreencovenant.org
X-WR-CALDESC:Events for Evergreen Covenant Church
REFRESH-INTERVAL;VALUE=DURATION:PT1H
X-Robots-Tag:noindex
X-PUBLISHED-TTL:PT1H
BEGIN:VTIMEZONE
TZID:UTC
BEGIN:STANDARD
TZOFFSETFROM:+0000
TZOFFSETTO:+0000
TZNAME:UTC
DTSTART:20240101T000000
END:STANDARD
END:VTIMEZONE
BEGIN:VEVENT
DTSTART;TZID=UTC:20251005T093000
DTEND;TZID=UTC:20251005T110000
DTSTAMP:20260424T220612
CREATED:20250929T163429Z
LAST-MODIFIED:20250929T163429Z
UID:2893-1759656600-1759662000@evergreencovenant.org
SUMMARY:World Communion Sunday
DESCRIPTION:Gluten Free Communion
URL:https://evergreencovenant.org/event/world-communion-sunday/
LOCATION:Evergreen Covenant Church\, 7967 South Evergreen Road\, Branch\, MI\, 49402\, United States
CATEGORIES:Communion,Worship Service
END:VEVENT
BEGIN:VEVENT
DTSTART;TZID=UTC:20251019T100000
DTEND;TZID=UTC:20251019T130000
DTSTAMP:20260424T220612
CREATED:20250912T043734Z
LAST-MODIFIED:20250912T043734Z
UID:2859-1760868000-1760878800@evergreencovenant.org
SUMMARY:Worship Gathering\, Congregational Meeting\, & Charity Drive
DESCRIPTION:Congregational meeting following service. \nAt 12:00 we will have Soup and ice cream with a bake sale.  Proceeds going to charity!
URL:https://evergreencovenant.org/event/worship-gathering-congregational-meeting-charity-drive/
LOCATION:Evergreen Covenant Church\, 7967 South Evergreen Road\, Branch\, MI\, 49402\, United States
CATEGORIES:Church Events,Worship Service
END:VEVENT
BEGIN:VEVENT
DTSTART;TZID=UTC:20251026T150000
DTEND;TZID=UTC:20251026T160000
DTSTAMP:20260424T220612
CREATED:20251020T171245Z
LAST-MODIFIED:20251020T171245Z
UID:2920-1761490800-1761494400@evergreencovenant.org
SUMMARY:"Nobody Liked Paul" Bible Study
DESCRIPTION:
URL:https://evergreencovenant.org/event/nobody-liked-paul-bible-study/
LOCATION:Evergreen Covenant Church\, 7967 South Evergreen Road\, Branch\, MI\, 49402\, United States
CATEGORIES:Classes,Outreach
END:VEVENT
BEGIN:VEVENT
DTSTART;TZID=UTC:20251028T110000
DTEND;TZID=UTC:20251028T120000
DTSTAMP:20260424T220612
CREATED:20251020T163552Z
LAST-MODIFIED:20251020T163552Z
UID:2915-1761649200-1761652800@evergreencovenant.org
SUMMARY:Fresh Food Distribution
DESCRIPTION:Volunteers can arrive as early as 9 am\, but the food will be distributed\, starting at 11 am. \n 
URL:https://evergreencovenant.org/event/fresh-food-distribution-15/
LOCATION:Big Star Lake Fire Barn\, 15580 S Star Lake Drive\, Baldwin\, MI\, 49304\, United States
CATEGORIES:Food Distribution
END:VEVENT
END:VCALENDAR